BEGIN:VCALENDAR
VERSION:2.0
PRODID:-//ChamberMaster//Event Calendar 2.0//EN
METHOD:PUBLISH
X-PUBLISHED-TTL:P3D
REFRESH-INTERVAL:P3D
CALSCALE:GREGORIAN
BEGIN:VEVENT
DTSTART:20221011T150000Z
DTEND:20221011T160000Z
X-MICROSOFT-CDO-ALLDAYEVENT:FALSE
SUMMARY:10-11-22 Advocacy Council Meeting
DESCRIPTION:Presenter: Workforce Development Board of Solano County (WDB)\n\n	Heather Henry\,  President/Executive Director (hhenry@solanowdb.org)\n	April Ziomek-Portillo\, Business Services Senior Manager (aziomek@solanowdb.org)\n\nTopic: Programs and Services Provided by the WDB to Local Businesses and the Use of ARPA Funds\n\n\n\nDescription: Come hear how the WDB can partner with your business to provide customized solutions to meet your needs. We offer a full platform of services to help your business reach its next level of success through talent recruitment\, development\, retention\, and resources. Each solution can be tailored\, and most are offered at no cost to Solano County businesses. Financial supports and Employer Seminars are also available.
X-ALT-DESC;FMTTYPE=text/html:<strong><span style="font-family:times new roman\,serif\;"><span style="font-size:12pt\;">Presenter:</span></span></strong><span style="font-family:times new roman\,serif\;"><span style="font-size:12pt\;">&nbsp\;Workforce Development Board of Solano County (WDB)</span></span>\n<ul>\n	<li style="font-size:11pt\;font-family:Calibri\, sans-serif\;"><span style="font-family:times new roman\,serif\;"><span style="font-size:12pt\;">Heather Henry\, &nbsp\;President/Executive Director (<a href="mailto:hhenry@solanowdb.org" style="color:rgb(17\, 85\, 204)\;" target="_blank">hhenry@solanowdb.org</a>)</span></span></li>\n	<li style="font-size:11pt\;font-family:Calibri\, sans-serif\;"><span style="font-family:times new roman\,serif\;"><span style="font-size:12pt\;">April Ziomek-Portillo\, Business Services Senior Manager (<a href="mailto:aziomek@solanowdb.org" style="color:rgb(17\, 85\, 204)\;" target="_blank">aziomek@solanowdb.org</a>)</span></span></li>\n</ul>\n<strong><span style="font-family:times new roman\,serif\;"><span style="font-size:12pt\;">Topic:</span></span></strong>&nbsp\;<span style="font-family:times new roman\,serif\;"><span style="font-size:12pt\;">Programs and Services Provided by the WDB to Local Businesses and the Use of ARPA Funds</span></span><br />\n<br />\n<strong><span style="font-family:times new roman\,serif\;"><span style="font-size:12pt\;">Description:</span></span></strong><span style="font-family:times new roman\,serif\;"><span style="font-size:12pt\;">&nbsp\;Come hear how the WDB can partner with your business to provide customized solutions to meet your needs. We offer a full platform of services to help your business reach its next level of success through talent recruitment\, development\, retention\, and resources. Each solution can be tailored\, and&nbsp\;most are offered at no cost to Solano County businesses. Financial supports and Employer Seminars are also available.</span></span>
LOCATION:
UID:e.1602.7780
SEQUENCE:3
DTSTAMP:20260421T153845Z
URL:https://business.fairfieldsuisunchamber.com/events/details/10-11-22-advocacy-council-meeting-7780
END:VEVENT

END:VCALENDAR
