BEGIN:VCALENDAR
VERSION:2.0
PRODID:-//ChamberMaster//Event Calendar 2.0//EN
METHOD:PUBLISH
X-PUBLISHED-TTL:P3D
REFRESH-INTERVAL:P3D
CALSCALE:GREGORIAN
BEGIN:VEVENT
DTSTART:20221108T160000Z
DTEND:20221108T170000Z
X-MICROSOFT-CDO-ALLDAYEVENT:FALSE
SUMMARY:11-08-22 Advocacy Council Meeting
DESCRIPTION:Presenter: Department of Rehabilitation (DOR)\n\n	TBD\n\nTopic: Benefits of Hiring Individuals with Disabilities to Include Hiring Incentives\n\n\n\nDescription: The California Department of Rehabilitation (DOR) works in partnership with consumers and other stakeholders to provide services and advocacy resulting in employment\, independent living\, and equality for individuals with disabilities. The Workforce Development Section (WDS) of DOR works collaboratively with local and national business partners to develop strategies that support businesses who want to build and maintain an inclusive workforce. The partnerships with public and private sector businesses help to increase awareness of the benefits of hiring individuals with disabilities. Businesses call on WDS for no-cost disability awareness training\, online recruitment tools and information about hiring incentives and job accommodations. WDS also provides employment information\, resource materials\, technical assistance and training to the DOR Teams statewide\, supporting the successful implementation of local employment strategies.
X-ALT-DESC;FMTTYPE=text/html:<strong><span style="font-family:times new roman\,serif\;"><span style="font-size:12pt\;">Presenter:</span></span></strong><span style="font-family:times new roman\,serif\;"><span style="font-size:12pt\;">&nbsp\;Department of Rehabilitation (DOR)</span></span>\n<ul>\n	<li style="font-size:11pt\;font-family:Calibri\, sans-serif\;"><span style="font-family:times new roman\,serif\;"><span style="font-size:12pt\;">TBD</span></span></li>\n</ul>\n<strong><span style="font-family:times new roman\,serif\;"><span style="font-size:12pt\;">Topic:</span></span></strong><span style="font-family:times new roman\,serif\;"><span style="font-size:12pt\;">&nbsp\;Benefits of Hiring Individuals with Disabilities to Include Hiring Incentives</span></span><br />\n<br />\n<strong><span style="font-family:times new roman\,serif\;"><span style="font-size:12pt\;">Description:</span></span></strong><span style="font-family:times new roman\,serif\;"><span style="font-size:12pt\;">&nbsp\;The California Department of Rehabilitation (DOR) works in partnership with consumers and other stakeholders to provide services and advocacy resulting in employment\, independent living\, and equality for individuals with disabilities. The Workforce Development Section (WDS) of DOR works collaboratively with local and national business partners to develop strategies that support businesses who want to build and maintain an inclusive workforce. The partnerships with public and private sector businesses help to increase awareness of the benefits of hiring individuals with disabilities. Businesses call on WDS for no-cost disability awareness training\, online recruitment tools and information about hiring incentives and job accommodations. WDS also provides employment information\, resource materials\, technical assistance and training to the DOR Teams statewide\, supporting the successful implementation of local employment strategies.</span></span>
LOCATION:
UID:e.1602.7781
SEQUENCE:3
DTSTAMP:20260419T154239Z
URL:https://business.fairfieldsuisunchamber.com/events/details/11-08-22-advocacy-council-meeting-7781
END:VEVENT

END:VCALENDAR
