BEGIN:VCALENDAR
VERSION:2.0
PRODID:-//ChamberMaster//Event Calendar 2.0//EN
METHOD:PUBLISH
X-PUBLISHED-TTL:P3D
REFRESH-INTERVAL:P3D
CALSCALE:GREGORIAN
BEGIN:VEVENT
DTSTART:20221118T233000Z
DTEND:20221119T023000Z
X-MICROSOFT-CDO-ALLDAYEVENT:FALSE
SUMMARY:11-18-22 Special (TRAFC) Meeting Travis Regional Armed Forces Committee
DESCRIPTION:Special (TRAFC) Meeting Travis Regional Armed Forces Committee.\n\n	 TRAFC Meeting from 3:30 to 4:30 PM at the Delta Breeze Club on Travis Air Force Base.\n	Then a Social Event being hosted from 4:30 to 5:30 PM at the Golden Bear Lounge also on Travis Air Force Base.\n	Lastly\, will transition over to the Fisher House Fesitval of Trees Fund Raiser at the 60th Maintenance Group Atrium at 5:30 PM.
X-ALT-DESC;FMTTYPE=text/html:Special (TRAFC) Meeting Travis Regional Armed Forces Committee.\n<ol>\n	<li>&nbsp\;TRAFC Meeting from 3:30 to 4:30 PM at the Delta Breeze Club on Travis Air Force Base.</li>\n	<li>Then a Social Event being hosted from 4:30 to 5:30 PM at the Golden Bear Lounge also on Travis Air Force Base.</li>\n	<li>Lastly\, will transition over to the Fisher House Fesitval of Trees Fund Raiser at the 60th Maintenance Group Atrium at 5:30 PM.&nbsp\;</li>\n</ol>\n
LOCATION:All three events will be located on Travis Air Force Base. All attendees will need base access prior to attendance!
UID:e.1602.7818
SEQUENCE:3
DTSTAMP:20260419T153531Z
URL:https://business.fairfieldsuisunchamber.com/events/details/11-18-22-special-trafc-meeting-travis-regional-armed-forces-committee-7818
END:VEVENT

END:VCALENDAR
