BEGIN:VCALENDAR
VERSION:2.0
PRODID:-//ChamberMaster//Event Calendar 2.0//EN
METHOD:PUBLISH
X-PUBLISHED-TTL:P3D
REFRESH-INTERVAL:P3D
CALSCALE:GREGORIAN
BEGIN:VEVENT
DTSTART:20190601T150000Z
DTEND:20190601T190000Z
X-MICROSOFT-CDO-ALLDAYEVENT:FALSE
SUMMARY:12th Annual Lynch Canyon Trail Run & Community Hike
DESCRIPTION:Register Now For The 5K\, 10K\, Or Half Marathon Run Because They Are Expected To Sell Out!\n\nRun\, Skip\, Hike Or Walk!\n\nTeams Encouraged!\n\nCostumes Encouraged! \n\n \nTo do the 2.5 mile community hike:\n\nIt's free! Just show up!\n\nNote though\, parking is limited.\n\nEvent Details:\n\nOn the first Saturday of June\, trail runners gather to test themselves on Lynch Canyon's terrain. Runners experience outstanding views of undulating open space\, the Napa Valley\, San Francisco Bay\, Mt. Tamalpais\, and Mt. Diablo. Drawing participants from all around Northern California and beyond\, this top notch event has earned a reputation for being the perfect combination of "challenge & fun".\n\nEnjoyed by runners from 8 to 80 years old\, and first-timers to sponsored athletes\, the Lynch Canyon Trail Run has something for everyone. While trail run distances are challenging with a respectable amount of elevation gain\, participants are treated to frequent aid stations and cheerful volunteers. The event also includes a free 2.5 mile community hike to encourage everyone to participate and enjoy some of the great outdoor recreation that Solano County has to offer.\n\nEvent proceeds benefit The Solano Land Trust\, a non-profit organization that preserves and protects open space in Solano County.
X-ALT-DESC;FMTTYPE=text/html:<span style="font-size:16px\;"><span style="color: rgb(136\, 136\, 136)\; font-family: georgia\, palatino\, serif\;">Register Now For The 5K\, 10K\, Or Half Marathon Run Because&nbsp\;They Are Expected To Sell Out!<br />\nRun\, Skip\, Hike Or Walk!</span><br />\n<span style="color: rgb(136\, 136\, 136)\; font-family: georgia\, palatino\, serif\;">Teams Encouraged!</span><br />\n<span style="color: rgb(136\, 136\, 136)\; font-family: georgia\, palatino\, serif\;">Costumes Encouraged!&nbsp\;</span></span><br />\n&nbsp\;\n<p style="margin-left:0px\; margin-right:0px\; text-align:left"><span style="font-size:16px\;"><span style="font-family: georgia\, palatino\, serif\;"><strong>To do the 2.5 mile community hike:</strong></span></span></p>\n\n<p style="margin-left:0px\; margin-right:0px\; text-align:left"><span style="font-size:16px\;"><span style="font-family: georgia\, palatino\, serif\;">It&#39\;s free! Just show up!</span></span></p>\n\n<p style="margin-left:0px\; margin-right:0px\; text-align:left"><span style="font-size:16px\;"><span style="font-family: georgia\, palatino\, serif\;">Note though\, parking is limited.</span></span></p>\n\n<p style="margin-left:0px\; margin-right:0px\; text-align:left"><span style="font-size:16px\;">Event Details:<br />\nOn the first Saturday of June\, trail runners gather to test themselves on Lynch Canyon&#39\;s terrain. Runners experience outstanding views of undulating open space\, the Napa Valley\, San Francisco Bay\, Mt. Tamalpais\, and Mt. Diablo. Drawing participants from all around Northern California and beyond\, this top notch event has earned a reputation for being the perfect combination of &quot\;challenge &amp\; fun&quot\;.</span></p>\n\n<p style="margin-left:0px\; margin-right:0px\; text-align:left"><span style="font-size:16px\;">Enjoyed by runners from 8 to 80 years old\, and first-timers to sponsored athletes\, the Lynch Canyon Trail Run has something for everyone. While trail run distances are challenging with a respectable amount of elevation gain\, participants are treated to frequent aid stations and cheerful volunteers. The event also includes a <em>free</em> 2.5 mile community hike to encourage everyone to participate and enjoy some of the great outdoor recreation that Solano County has to offer.</span></p>\n\n<p style="margin-left:0px\; margin-right:0px\; text-align:left"><span style="font-size:16px\;">Event proceeds benefit The Solano Land Trust\, a non-profit organization that preserves and protects open space in Solano County.</span></p>\n\n<p style="margin-left:0px\; margin-right:0px\; text-align:left">&nbsp\;</p>\n
LOCATION:Lynch Canyon Open Space 3100 Lynch Rd\, Fairfield\, CA 94534
UID:e.1602.7097
SEQUENCE:3
DTSTAMP:20260424T101135Z
URL:https://business.fairfieldsuisunchamber.com/events/details/12th-annual-lynch-canyon-trail-run-community-hike-7097
END:VEVENT

END:VCALENDAR
