BEGIN:VCALENDAR
VERSION:2.0
PRODID:-//ChamberMaster//Event Calendar 2.0//EN
METHOD:PUBLISH
X-PUBLISHED-TTL:P3D
REFRESH-INTERVAL:P3D
CALSCALE:GREGORIAN
BEGIN:VEVENT
DTSTART:20200120T170000Z
DTEND:20200120T200000Z
X-MICROSOFT-CDO-ALLDAYEVENT:FALSE
SUMMARY:15th Annual Rev. Dr. Martin Luther King\, Jr. Commemorative Breakfast
DESCRIPTION:The Fairfield-Suisin City-Vacaville Section of The National Council of Negro Women will host a morning of service in remembrance and celebration of the 91st birthday of Dr. King. Guest speaker will be Lisa Yarbrough-Gauthier\, East Palo Alto Council Member. Full breakfast and entertainment will be provided.
X-ALT-DESC;FMTTYPE=text/html:The Fairfield-Suisin City-Vacaville Section of The National Council of Negro Women will host a morning of service in remembrance and celebration of the 91st birthday of Dr. King. Guest speaker will be Lisa Yarbrough-Gauthier\, East Palo Alto Council Member. Full breakfast and entertainment will be provided.
LOCATION:Hilton Garden Inn 2200 Gateway Court Fairfield\, California
UID:e.1602.7427
SEQUENCE:3
DTSTAMP:20260423T233401Z
URL:https://business.fairfieldsuisunchamber.com/events/details/15th-annual-rev-dr-martin-luther-king-jr-commemorative-breakfast-7427
END:VEVENT

END:VCALENDAR
