BEGIN:VCALENDAR
VERSION:2.0
PRODID:-//ChamberMaster//Event Calendar 2.0//EN
METHOD:PUBLISH
X-PUBLISHED-TTL:P3D
REFRESH-INTERVAL:P3D
CALSCALE:GREGORIAN
BEGIN:VEVENT
DTSTART:20191123T020000Z
DTEND:20191123T070000Z
X-MICROSOFT-CDO-ALLDAYEVENT:FALSE
SUMMARY:2019 Black & White Ball Dinner & Auction
DESCRIPTION:The Fairfield-Suisun Chamber of Commerce is excited to host its annual Black & White Ball Dinner & Auction on Friday\, November 22nd\, 2019 from 6:00 - 11:00pm. Located at the Hilton Garden Inn of Fairfield\, this event is our premier fundraiser of the year and we appreciate your attendance at this elegant black tie affair in support of the Chamber!\n\n\n\nGuests will enjoy a wonderful dinner\, live and silent auctions\, and will end the night with dancing\; a night to be remembered by all.
X-ALT-DESC;FMTTYPE=text/html:<p><br />\n<span style="font-size:16px\;">The Fairfield-Suisun Chamber of Commerce is excited to host its annual Black &amp\; White Ball Dinner &amp\; Auction on Friday\, November 22nd\, 2019 from 6:00 - 11:00pm. Located at the Hilton Garden Inn of Fairfield\, this event is our premier fundraiser of the year and we appreciate your attendance at this elegant black tie affair in support of the Chamber!<br />\n<br />\nGuests will enjoy a wonderful dinner\,&nbsp\;live and silent auctions\,&nbsp\;and will end the night with dancing\; a night to be remembered by all.</span></p>\n
LOCATION:Hilton Garden Inn of Fairfield 2200 Gateway Court Fairfield\, CA 94533
UID:e.1602.7317
SEQUENCE:3
DTSTAMP:20260424T023328Z
URL:https://business.fairfieldsuisunchamber.com/events/details/2019-black-white-ball-dinner-auction-7317
END:VEVENT

END:VCALENDAR
