BEGIN:VCALENDAR
VERSION:2.0
PRODID:-//ChamberMaster//Event Calendar 2.0//EN
METHOD:PUBLISH
X-PUBLISHED-TTL:P3D
REFRESH-INTERVAL:P3D
CALSCALE:GREGORIAN
BEGIN:VEVENT
DTSTART:20201111T180000Z
DTEND:20201123T020000Z
X-MICROSOFT-CDO-ALLDAYEVENT:FALSE
SUMMARY:24th Annual Meyer Outlet Sale
DESCRIPTION:Save 30-70% OFF cookware\, bakeware\, food storage\, and more on brands such as Anolon\, Circulon\, Rachael Ray\, and Farberware at the 24th Annual Meyer Outlet Sale - open Nov. 11-22 from 10AM-6PM at ONE LOCATION this year! Face coverings will be required and proper social distancing guidelines will be adhered to in-store. For other ways to shop such as buying online or curbside pickup\, plus an additional 30% OFF coupon\, visit the website listed. Meyer is also gladly matching donations to the Humane Society of the North Bay up to a total of $15\,000. Please bring your donation to any cashier at the Sale.
X-ALT-DESC;FMTTYPE=text/html:Save 30-70% OFF cookware\, bakeware\, food storage\, and more on brands such as Anolon\, Circulon\, Rachael Ray\, and Farberware at the 24th Annual Meyer Outlet Sale - open Nov. 11-22 from 10AM-6PM at ONE LOCATION this year! Face coverings will be required and proper social distancing guidelines will be adhered to in-store. For other ways to shop such as buying online or curbside pickup\, plus an additional 30% OFF coupon\, visit the website listed. Meyer is also gladly matching donations to the Humane Society of the North Bay up to a total of $15\,000. Please bring your donation to any cashier at the Sale.
LOCATION:300 Chadbourne Road\, Fairfield
UID:e.1602.7487
SEQUENCE:3
DTSTAMP:20260423T071223Z
URL:https://business.fairfieldsuisunchamber.com/events/details/24th-annual-meyer-outlet-sale-7487
END:VEVENT

END:VCALENDAR
