BEGIN:VCALENDAR
VERSION:2.0
PRODID:-//ChamberMaster//Event Calendar 2.0//EN
METHOD:PUBLISH
X-PUBLISHED-TTL:P3D
REFRESH-INTERVAL:P3D
CALSCALE:GREGORIAN
BEGIN:VEVENT
DTSTART:20190518T170000Z
DTEND:20190518T220000Z
X-MICROSOFT-CDO-ALLDAYEVENT:FALSE
SUMMARY:35th Annual Biggest Little Car Show
DESCRIPTION:The Golden Hills Mustang Club presents it's 35th Annual Biggest Little Car Show on May 18th\, 2019 at the Suisun Waterfront Plaza. This is an all Ford event showcasing all years of Mustang\, Fords and Ford powered vehicles. Join us for a day of fun\, music\, raffle prizes\, vendors\, and fabulous cars on the scenic Waterfront Plaza. A portion of the proceeds will benefit the Solano Advocates for Victims of Violence. The show runs from 10am-3pm and is free to the public. Please go to carshow@goldenhillsmustangclub.com for registration and event details.
X-ALT-DESC;FMTTYPE=text/html:<span style="font-size:16px\;">The Golden Hills Mustang Club presents it&#39\;s 35th Annual Biggest Little Car Show on May 18th\, 2019 at the Suisun Waterfront Plaza. This is an all Ford event showcasing all years of Mustang\, Fords and Ford powered vehicles. Join us for a day of fun\, music\, raffle prizes\, vendors\, and fabulous cars on the scenic Waterfront Plaza. A portion of the proceeds will benefit the Solano Advocates for Victims of Violence. The show runs from 10am-3pm and is free to the public. Please go to <a href="mailto:carshow@goldenhillsmustangclub.com">carshow@goldenhillsmustangclub.com</a> for registration and event details.</span>
LOCATION:Suisun Waterfront Plaza\, 580 Solano Street\, Suisun City\, CA 94585.
UID:e.1602.7059
SEQUENCE:3
DTSTAMP:20260424T114032Z
URL:https://business.fairfieldsuisunchamber.com/events/details/35th-annual-biggest-little-car-show-7059
END:VEVENT

END:VCALENDAR
