BEGIN:VCALENDAR
VERSION:2.0
PRODID:-//ChamberMaster//Event Calendar 2.0//EN
METHOD:PUBLISH
X-PUBLISHED-TTL:P3D
REFRESH-INTERVAL:P3D
CALSCALE:GREGORIAN
BEGIN:VEVENT
DTSTART;VALUE=DATE:20220716
DTEND;VALUE=DATE:20220717
TRANSP:TRANSPARENT
X-MICROSOFT-CDO-ALLDAYEVENT:TRUE
SUMMARY:4th Of July Sales Event at Sunwise Fairfield Pre-Owned Superstore!
DESCRIPTION:Get July 4th savings all month long at the Sunwise Fairfield Pre-Owned Superstore! We're fair\, fast\, and friendly with low\, upfront\, no hassle market-based pricing designed to save you time and money! \n\n \n\nWe have over one hundred vehicles to choose from including cars\, trucks\, crossovers\, hybrids and more! Plenty of finance options too\, even for first time buyers or credit challenged. Plus\, your car may never be worth more than it was before\, and we want to buy it!\n\nDon't miss the savings now through month end at the Sunwise Fairfield Pre-owned Superstore!
X-ALT-DESC;FMTTYPE=text/html:<p><u><strong>Get July 4th savings all month long at the Sunwise Fairfield Pre-Owned Superstore!</strong></u> We&#39\;re fair\, fast\, and friendly with low\, upfront\, no hassle market-based pricing designed to save you time and money!&nbsp\;<br />\n&nbsp\;</p>\n\n<p>We have over one hundred vehicles to choose from including cars\, trucks\, crossovers\, hybrids and more! Plenty of finance options too\, even for first time buyers or credit challenged. Plus\, your car may never be worth more than it was before\, and we want to buy it!</p>\n\n<p>Don&#39\;t miss the savings now through month end at the<u><strong> Sunwise Fairfield Pre-owned Superstore!</strong></u></p>\n
LOCATION:2775 Auto Mall Parkway\, Fairfield CA 94533
UID:e.1602.7741
SEQUENCE:3
DTSTAMP:20260419T224011Z
URL:https://business.fairfieldsuisunchamber.com/events/details/4th-of-july-sales-event-at-sunwise-fairfield-pre-owned-superstore-07-16-2022-7741
END:VEVENT

END:VCALENDAR
