BEGIN:VCALENDAR
VERSION:2.0
PRODID:-//ChamberMaster//Event Calendar 2.0//EN
METHOD:PUBLISH
X-PUBLISHED-TTL:P3D
REFRESH-INTERVAL:P3D
CALSCALE:GREGORIAN
BEGIN:VEVENT
DTSTART:20180901T210000Z
DTEND:20180902T000000Z
X-MICROSOFT-CDO-ALLDAYEVENT:FALSE
SUMMARY:"5 O'clock Somewhere" at Seven Artisans Winery
DESCRIPTION:The 5 O'clock Somewhere Band is a local Northern California band founded in 2015. Although the name often reminds people of the infamous country song by Alan Jackson\, the band is so much more than just country. The members of the band come from diverse backgrounds in music\; everything from classical jazz to heavy metal\, although you won't hear them playing any metal.\n\nThis gives the band their motto: "A little bit Country & A whole lotta Rock-N-Roll"\n\n\n\nTim Osterhout - Band Leader\n\n\n\n$15/person   includes Entertainment & one glass "First Flight" Wine\n\nReservations Recommended for Choice Seating\n\nCall/Text: (707)330-3806 or Online: www.sevenartisanswinery.com/events\n\nEmail: sevenartisanswinery@gmail.com\n\n*No outside alcoholic beverages* - 21+ to purchase alcohol!
X-ALT-DESC;FMTTYPE=text/html:The 5 O&#39\;clock Somewhere Band is a local Northern California band founded in 2015. Although the name often reminds people of the infamous country song by Alan Jackson\, the band is so much more than just country. The members of the band come from diverse backgrounds in music\; everything from classical jazz to heavy metal\, although you won&#39\;t hear them playing any metal.<br />\nThis gives the band their motto: &quot\;A little bit Country &amp\; A whole lotta Rock-N-Roll&quot\;<br />\n<br />\nTim Osterhout - Band Leader<br />\n<br />\n$15/person &ndash\; includes Entertainment &amp\; one glass &ldquo\;First Flight&rdquo\; Wine<br />\nReservations Recommended for Choice Seating<br />\nCall/Text: (707)330-3806 or Online: www.sevenartisanswinery.com/events<br />\nEmail: sevenartisanswinery@gmail.com<br />\n*No outside alcoholic beverages* - 21+ to purchase alcohol!
LOCATION:Seven Artisans Winery 4341 Abernathy Road Fairfield\, CA (707) 330-3806
UID:e.1602.6614
SEQUENCE:3
DTSTAMP:20260425T002016Z
URL:https://business.fairfieldsuisunchamber.com/events/details/5-o-clock-somewhere-at-seven-artisans-winery-6614
END:VEVENT

END:VCALENDAR
