BEGIN:VCALENDAR
VERSION:2.0
PRODID:-//ChamberMaster//Event Calendar 2.0//EN
METHOD:PUBLISH
X-PUBLISHED-TTL:P3D
REFRESH-INTERVAL:P3D
CALSCALE:GREGORIAN
BEGIN:VEVENT
DTSTART:20190112T220000Z
DTEND:20190113T010000Z
X-MICROSOFT-CDO-ALLDAYEVENT:FALSE
SUMMARY:5 O'Clock Somewhere play Seven Artisans Winery
DESCRIPTION:Saturday\, January 12th   \n\n \n\n \n\n2:00   5:00 PM\n\n \n\nSEVEN ARTISANS WINERY\n\n \n\nPresents:\n\n \n\n5 O'clock Somewhere\n\n \n\nA little bit Country and a lot of Rock 'n Roll\n\n \n\n \n\n$15 includes one glass of wine\n\n \n\n \n\nPlease Join us for an afternoon of fantastic music\,\n\ndancing\, great people and fun!\n\n \n\n \n\nSeven Artisans Winery\n\n4341 Abernathy Road\n\nFairfield\, CA 94534\n\n \n\nCall or text for reservations: (707) 771-0911 \n\n \n\nNo outside alcohol permitted\n\n \n\nWe'll be inside\, warm and toasty!
X-ALT-DESC;FMTTYPE=text/html:<div style="text-align:center"><strong><span style="font-size:large"><span style="font-family:bodoni mt black"><strong><span style="font-family:bodoni mt black\,serif"><span style="font-size:26.0pt">Saturday\, January 12<sup>th</sup>&nbsp\;&nbsp\; </span></span></strong></span></span></strong><br />\n&nbsp\;<br />\n&nbsp\;<br />\n<strong><span style="font-size:large"><span style="font-family:bodoni mt black"><strong><span style="font-family:bodoni mt black\,serif"><span style="font-size:26.0pt">2:00 &ndash\; 5:00 PM</span></span></strong></span></span></strong><br />\n&nbsp\;<br />\n<strong><span style="font-size:large"><span style="font-family:bodoni mt black"><strong><span style="font-family:bodoni mt black\,serif"><span style="font-size:36.0pt">SEVEN ARTISANS WINERY</span></span></strong></span></span></strong><br />\n&nbsp\;<br />\n<strong><span style="font-size:large"><span style="font-family:bodoni mt black"><strong><span style="font-family:bodoni mt black\,serif"><span style="font-size:18.0pt">Presents:</span></span></strong></span></span></strong><br />\n&nbsp\;<br />\n<strong><span style="font-size:large"><span style="font-family:bodoni mt black"><strong><span style="font-family:bodoni mt black\,serif"><span style="font-size:36.0pt">5 O&rsquo\;clock Somewhere</span></span></strong></span></span></strong><br />\n&nbsp\;<br />\n<strong><em><span style="font-size:large"><span style="font-family:bodoni mt black"><em><span style="font-family:bodoni mt black\,serif"><span style="font-size:24.0pt">A little bit Country and a lot of Rock &lsquo\;n Roll</span></span></em></span></span></em></strong><br />\n&nbsp\;<br />\n&nbsp\;<br />\n<strong><em><span style="font-size:large"><span style="font-family:bodoni mt black"><em><span style="font-family:bodoni mt black\,serif"><span style="font-size:14.0pt">$15 includes one glass of wine</span></span></em></span></span></em></strong><br />\n&nbsp\;<br />\n&nbsp\;<br />\n<strong><em><span style="font-size:large"><span style="font-family:bodoni mt black"><em><span style="font-family:bodoni mt black\,serif"><span style="font-size:14.0pt">Please Join us for an afternoon of fantastic music\,</span></span></em></span></span></em></strong><br />\n<strong><em><span style="font-size:large"><span style="font-family:bodoni mt black"><em><span style="font-family:bodoni mt black\,serif"><span style="font-size:14.0pt">dancing\, great people and fun!</span></span></em></span></span></em></strong><br />\n&nbsp\;<br />\n&nbsp\;<br />\n<strong><span style="font-size:large"><span style="font-family:bodoni mt black"><strong><span style="font-family:bodoni mt black\,serif"><span style="font-size:20.0pt">Seven Artisans Winery</span></span></strong></span></span></strong><br />\n<strong><span style="font-size:large"><span style="font-family:bodoni mt black"><strong><span style="font-family:bodoni mt black\,serif"><span style="font-size:20.0pt">4341 Abernathy Road</span></span></strong></span></span></strong><br />\n<strong><span style="font-size:large"><span style="font-family:bodoni mt black"><strong><span style="font-family:bodoni mt black\,serif"><span style="font-size:20.0pt">Fairfield\, CA 94534</span></span></strong></span></span></strong><br />\n&nbsp\;<br />\n<strong><span style="font-size:large"><span style="font-family:bodoni mt black"><strong><span style="font-family:bodoni mt black\,serif"><span style="font-size:20.0pt">Call or text for reservations: (707) 771-0911 </span></span></strong></span></span></strong><br />\n&nbsp\;<br />\n<strong><span style="font-size:large"><span style="font-family:bodoni mt black"><strong><span style="font-family:bodoni mt black\,serif"><span style="font-size:20.0pt">No outside alcohol permitted</span></span></strong></span></span></strong><br />\n&nbsp\;<br />\n<strong><span style="font-size:large"><span style="font-family:bodoni mt black"><strong><span style="font-family:bodoni mt black\,serif"><span style="font-size:14.0pt">We&rsquo\;ll be inside\, warm and toasty!</span></span></strong></span></span></strong><br />\n&nbsp\;<br />\n&nbsp\;<br />\n&nbsp\;<br />\n&nbsp\;<br />\n&nbsp\;</div>\n
LOCATION:
UID:e.1602.6969
SEQUENCE:3
DTSTAMP:20260424T175302Z
URL:https://business.fairfieldsuisunchamber.com/events/details/5-o-clock-somewhere-play-seven-artisans-winery-01-12-2019-6969
END:VEVENT

END:VCALENDAR
