BEGIN:VCALENDAR
VERSION:2.0
PRODID:-//ChamberMaster//Event Calendar 2.0//EN
METHOD:PUBLISH
X-PUBLISHED-TTL:P3D
REFRESH-INTERVAL:P3D
CALSCALE:GREGORIAN
BEGIN:VEVENT
DTSTART:20190223T220000Z
DTEND:20190224T010000Z
X-MICROSOFT-CDO-ALLDAYEVENT:FALSE
SUMMARY:5 O'clock Somewhere play Seven Artisans Winery
DESCRIPTION:Saturday\, February 23rd \n\n \n\n2:00 - 5:00 PM\n\n \n\nSEVEN ARTISANS WINERY\n\nPresents:\n\n5 O'clock Somewhere\n\nA little bit Country and a lot of Rock 'n' Roll\n\n \n\n \n\n$15 includes one glass of wine\n\n \n\n \n\nJoin us for an afternoon of fantastic music\, \n\ndancing\, great people and fun!\n\n \n\n \n\nSeven Artisans Winery\n\n4341 Abernathy Road\n\nFairfield\, CA 94534\n\n \n\nCall\, text or email Bob for reservations at: \n\n(707) 771-0911\n\n \n\neckerbob@mindspring.com\n\n \n\n \n\nNo outside alcohol permitted\n\n \n\nWe'll see you Inside\, warm and cozy
X-ALT-DESC;FMTTYPE=text/html:<div style="text-align: center\;">&nbsp\;<br />\n<strong><span style="font-size:large"><span style="font-family:elephant"><strong><span style="font-family:elephant\,serif"><span style="font-size:26.0pt">Saturday\, February 23<sup>rd</sup> </span></span></strong></span></span></strong><br />\n&nbsp\;<br />\n<strong><span style="font-size:large"><span style="font-family:elephant"><strong><span style="font-family:elephant\,serif"><span style="font-size:26.0pt">2:00 - 5:00 PM</span></span></strong></span></span></strong><br />\n&nbsp\;<br />\n<strong><span style="font-size:large"><span style="font-family:elephant"><strong><span style="font-family:elephant\,serif"><span style="font-size:28.0pt">SEVEN ARTISANS WINERY</span></span></strong></span></span></strong><br />\n<strong><span style="font-size:large"><span style="font-family:elephant"><strong><span style="font-family:elephant\,serif"><span style="font-size:18.0pt">Presents:</span></span></strong></span></span></strong><br />\n<strong><em><span style="font-size:large"><span style="font-family:elephant"><em><span style="font-family:elephant\,serif"><span style="font-size:48.0pt">5 O&rsquo\;clock Somewhere</span></span></em></span></span></em></strong><br />\n<strong><em><span style="font-size:large"><span style="font-family:elephant"><em><span style="font-family:elephant\,serif"><span style="font-size:22.0pt">A little bit Country and a lot of Rock &lsquo\;n&rsquo\; Roll</span></span></em></span></span></em></strong><br />\n&nbsp\;<br />\n&nbsp\;<br />\n<strong><em><span style="font-size:large"><span style="font-family:elephant"><em><span style="font-family:elephant\,serif"><span style="font-size:16.0pt">$15 includes one glass of wine</span></span></em></span></span></em></strong><br />\n&nbsp\;<br />\n&nbsp\;<br />\n<strong><em><span style="font-size:large"><span style="font-family:elephant"><em><span style="font-family:elephant\,serif"><span style="font-size:16.0pt">Join us for an afternoon of fantastic music\, </span></span></em></span></span></em></strong><br />\n<strong><em><span style="font-size:large"><span style="font-family:elephant"><em><span style="font-family:elephant\,serif"><span style="font-size:16.0pt">dancing\, great people and fun!</span></span></em></span></span></em></strong><br />\n&nbsp\;<br />\n&nbsp\;<br />\n<strong><span style="font-size:large"><span style="font-family:elephant"><strong><span style="font-family:elephant\,serif"><span style="font-size:20.0pt">Seven Artisans Winery</span></span></strong></span></span></strong><br />\n<strong><span style="font-size:large"><span style="font-family:elephant"><strong><span style="font-family:elephant\,serif"><span style="font-size:20.0pt">4341 Abernathy Road</span></span></strong></span></span></strong><br />\n<strong><span style="font-size:large"><span style="font-family:elephant"><strong><span style="font-family:elephant\,serif"><span style="font-size:20.0pt">Fairfield\, CA 94534</span></span></strong></span></span></strong><br />\n&nbsp\;<br />\n<strong><span style="font-size:large"><span style="font-family:elephant"><strong><span style="font-family:elephant\,serif"><span style="font-size:20.0pt">Call\, text or email Bob for reservations at: </span></span></strong></span></span></strong><br />\n<strong><span style="font-size:large"><span style="font-family:elephant"><strong><span style="font-family:elephant\,serif"><span style="font-size:20.0pt">(707) 771-0911</span></span></strong></span></span></strong><br />\n&nbsp\;<br />\n<strong><span style="font-size:large"><span style="font-family:elephant"><span style="color:yellow"><strong><span style="color:yellow"><span style="font-family:elephant\,serif"><span style="font-size:20.0pt"><a href="mailto:eckerbob@mindspring.com"><span style="color:yellow"><span style="color:yellow">eckerbob@mindspring.com</span></span></a></span></span></span></strong></span></span></span></strong><br />\n&nbsp\;<br />\n&nbsp\;<br />\n<strong><span style="font-size:large"><span style="font-family:elephant"><strong><span style="font-family:elephant\,serif"><span style="font-size:20.0pt">No outside alcohol permitted</span></span></strong></span></span></strong><br />\n&nbsp\;<br />\n<strong><span style="font-size:large"><span style="font-family:elephant"><strong><span style="font-family:elephant\,serif"><span style="font-size:14.0pt">We&rsquo\;ll see you <em><em>Inside</em></em>\, warm and cozy</span></span></strong></span></span></strong><br />\n&nbsp\;<br />\n&nbsp\;<br />\n&nbsp\;<br />\n&nbsp\;<br />\n&nbsp\;<br />\n&nbsp\;<br />\n&nbsp\;<br />\n&nbsp\;<br />\n&nbsp\;<br />\n&nbsp\;</div>\n
LOCATION:Saturday\, February 23rd 2:00 - 5:00 PM SEVEN ARTISANS WINERY Presents: 5 O'clock Somewhere A little bit Country and a lot of Rock 'n' Roll $15 includes one glass of wine Join us for an afternoon of fantastic music\, dancing\, great people and fun! Seven Artisans Winery 4341 Abernathy Road Fairfield\, CA 94534 Call\, text or email Bob for reservations at: (707) 771-0911 eckerbob@mindspring.com No outside alcohol permitted We'll see you Inside\, warm and cozy
UID:e.1602.7010
SEQUENCE:3
DTSTAMP:20260424T160800Z
URL:https://business.fairfieldsuisunchamber.com/events/details/5-o-clock-somewhere-play-seven-artisans-winery-02-23-2019-7010
END:VEVENT

END:VCALENDAR
