BEGIN:VCALENDAR
VERSION:2.0
PRODID:-//ChamberMaster//Event Calendar 2.0//EN
METHOD:PUBLISH
X-PUBLISHED-TTL:P3D
REFRESH-INTERVAL:P3D
CALSCALE:GREGORIAN
BEGIN:VEVENT
DTSTART:20181110T220000Z
DTEND:20181111T010000Z
X-MICROSOFT-CDO-ALLDAYEVENT:FALSE
SUMMARY:5 O'clock Somewhere play Seven Artisans Winery
DESCRIPTION:Saturday\, November 10th\n\n \n\n2:00 - 5:00 PM\n\n \n\nSEVEN ARTISANS WINERY\n\nPresents:\n\n5 O'clock Somewhere\n\n\n\nA little bit of country and a lot of Rock and Roll\n\n \n\n$15 includes one glass of wine\n\n \n\n \n\nJoin us for an afternoon of fantastic music\, \n\ndancing\, good food\, great people and fun!\n\n \n\n \n\nSeven Artisans Winery\n\n4341 Abernathy Road\n\nFairfield\, CA 94534\n\n \n\nCall Bob: (707) 771-0911\n\nsevenartisanswinery@gmail.com\n\n \n\nNo outside alcohol permitted\n\n \n\nWe'll see you on "the lawn"
X-ALT-DESC;FMTTYPE=text/html:<p style="text-align:center"><strong><span style="font-family:elephant\,serif\; font-size:26pt">&nbsp\;</span></strong></p>\n\n<p style="text-align:center"><strong><span style="font-family:elephant\,serif\; font-size:26pt">Saturday\, November 10<sup>th</sup></span></strong></p>\n\n<p style="text-align:center"><strong><span style="font-family:elephant\,serif\; font-size:26pt">&nbsp\;</span></strong></p>\n\n<p style="text-align:center"><strong><span style="font-family:elephant\,serif\; font-size:26pt">2:00 - 5:00 PM</span></strong></p>\n\n<p style="text-align:center"><strong><span style="font-family:elephant\,serif\; font-size:28pt">&nbsp\;</span></strong></p>\n\n<p style="text-align:center"><strong><span style="font-family:elephant\,serif\; font-size:28pt">SEVEN ARTISANS WINERY</span></strong></p>\n\n<p style="text-align:center"><strong><span style="font-family:elephant\,serif\; font-size:18pt">Presents:</span></strong></p>\n\n<p style="text-align:center"><strong><em><span style="font-family:elephant\,serif\; font-size:36pt">5 O&rsquo\;clock Somewhere<br />\n<br />\nA little bit of country and a lot of Rock and Roll</span></em></strong></p>\n\n<p><strong><em><span style="font-family:elephant\,serif\; font-size:12pt">&nbsp\;</span></em></strong></p>\n\n<p style="text-align:center"><strong><em><span style="font-family:elephant\,serif\; font-size:14pt">$15 includes one glass of wine</span></em></strong></p>\n\n<p><strong><em><span style="font-family:elephant\,serif\; font-size:20pt">&nbsp\;</span></em></strong></p>\n\n<p style="text-align:center"><strong><em><span style="font-family:elephant\,serif\; font-size:14pt">&nbsp\;</span></em></strong></p>\n\n<p style="text-align:center"><strong><em><span style="font-family:elephant\,serif\; font-size:14pt">Join us for an afternoon of fantastic music\, </span></em></strong></p>\n\n<p style="text-align:center"><strong><em><span style="font-family:elephant\,serif\; font-size:14pt">dancing\, good food\, great people and fun!</span></em></strong></p>\n\n<p style="text-align:center"><strong><em><span style="font-family:elephant\,serif\; font-size:14pt">&nbsp\;</span></em></strong></p>\n\n<p style="text-align:center"><strong><span style="font-family:elephant\,serif\; font-size:14pt">&nbsp\;</span></strong></p>\n\n<p style="text-align:center"><strong><span style="font-family:elephant\,serif\; font-size:20pt">Seven Artisans Winery</span></strong></p>\n\n<p style="text-align:center"><strong><span style="font-family:elephant\,serif\; font-size:20pt">4341 Abernathy Road</span></strong></p>\n\n<p style="text-align:center"><strong><span style="font-family:elephant\,serif\; font-size:20pt">Fairfield\, CA 94534</span></strong></p>\n\n<p style="text-align:center"><strong><span style="font-family:elephant\,serif\; font-size:20pt">&nbsp\;</span></strong></p>\n\n<p style="text-align:center"><strong><span style="font-family:elephant\,serif\; font-size:20pt">Call Bob: (707) 771-0911</span></strong></p>\n\n<p style="text-align:center"><span style="font-family:elephant\,serif\; font-size:20pt"><strong>sevenartisanswinery@gmail.com</strong></span></p>\n\n<p style="text-align:center"><strong><span style="font-family:elephant\,serif\; font-size:20pt">&nbsp\;</span></strong></p>\n\n<p style="text-align:center"><strong><span style="font-family:elephant\,serif\; font-size:20pt">No outside alcohol permitted</span></strong></p>\n\n<p style="text-align:center"><strong><span style="font-family:elephant\,serif\; font-size:20pt">&nbsp\;</span></strong></p>\n\n<p style="text-align:center"><strong><span style="font-family:elephant\,serif\; font-size:14pt">We&rsquo\;ll see you on &ldquo\;the lawn&rdquo\;</span></strong></p>\n\n<p><span style="font-family:elephant\,serif\; font-size:12pt">&nbsp\;</span></p>\n\n<p><span style="font-family:elephant\,serif\; font-size:12pt">&nbsp\;</span></p>\n\n<p><span style="font-family:elephant\,serif\; font-size:12pt">&nbsp\;</span></p>\n\n<p><span style="font-family:garamond\,serif\; font-size:12pt">&nbsp\;</span></p>\n
LOCATION:Seven Artisans Winery 4341 Abernathy Road Fairfield\, CA 94534
UID:e.1602.6713
SEQUENCE:3
DTSTAMP:20260424T211056Z
URL:https://business.fairfieldsuisunchamber.com/events/details/5-o-clock-somewhere-play-seven-artisans-winery-6713
END:VEVENT

END:VCALENDAR
