BEGIN:VCALENDAR
VERSION:2.0
PRODID:-//ChamberMaster//Event Calendar 2.0//EN
METHOD:PUBLISH
X-PUBLISHED-TTL:P3D
REFRESH-INTERVAL:P3D
CALSCALE:GREGORIAN
BEGIN:VEVENT
DTSTART:20180127T220000Z
DTEND:20180128T010000Z
X-MICROSOFT-CDO-ALLDAYEVENT:FALSE
SUMMARY:5 O’clock Somewhere Rockin’ the House at Seven Artisans Winery
DESCRIPTION:5 O'clock Somewhere is a local band in northern California playing all your favorite country and rock-n-roll hits. From The Zac Brown Band to ZZ Topp.\n\n"We live by the motto 'A little bit country & a whole lotta Rock-N-Roll.'"  Tim Osterhout\n\n\n\n$15/person   includes one glass "First Flight" Wine\n\n4341 Abernathy Road\, Fairfield\, CA\n\nReservations Recommended for Choice Seating\n\n Call/Text: (707)330-3806 or www.sevenartisanswinery.com \n\n Email: sevenartisanswinery@gmail.com\n\n*No outside alcoholic beverages*- 21+ to purchase alcohol!\n\n \n\nIf inclement weather\, the event will be held inside the winery
X-ALT-DESC;FMTTYPE=text/html:<span style="font-size:12.0pt">5 O&#39\;clock Somewhere is a local band in northern California playing all your favorite country and rock-n-roll hits. From The Zac Brown Band to ZZ Topp.</span><br />\n<span style="font-size:12.0pt">&ldquo\;We live by the motto &lsquo\;A little bit country &amp\; a whole lotta Rock-N-Roll.&rsquo\;&ldquo\;&ndash\; <em>Tim Osterhout</em></span><br />\n<br />\n<span style="font-size:12.0pt">$15/person &ndash\; includes one glass &ldquo\;First Flight&rdquo\; Wine</span><br />\n<span style="font-size:12.0pt">4341 Abernathy Road\, Fairfield\, CA</span><br />\n<span style="font-size:12.0pt">Reservations Recommended for Choice Seating</span><br />\n<span style="font-size:12.0pt">&nbsp\;Call/Text: (707)330-3806 or www.sevenartisanswinery.com </span><br />\n<span style="font-size:12.0pt">&nbsp\;Email: sevenartisanswinery@gmail.com</span><br />\n<span style="font-size:12.0pt">*No outside alcoholic beverages*- 21+ to purchase alcohol!</span><br />\n&nbsp\;<br />\n<span style="font-size:12.0pt">If inclement weather\, the event will be held inside the winery</span>
LOCATION:Seven Artisans Winery 4341 Abernathy Road Fairfield\, CA 94534
UID:e.1602.4119
SEQUENCE:3
DTSTAMP:20260425T133450Z
URL:https://business.fairfieldsuisunchamber.com/events/details/5-o-clock-somewhere-rockin-the-house-at-seven-artisans-winery-01-27-2018-4119
END:VEVENT

END:VCALENDAR
