BEGIN:VCALENDAR
VERSION:2.0
PRODID:-//ChamberMaster//Event Calendar 2.0//EN
METHOD:PUBLISH
X-PUBLISHED-TTL:P3D
REFRESH-INTERVAL:P3D
CALSCALE:GREGORIAN
BEGIN:VEVENT
DTSTART:20190504T180000Z
DTEND:20190504T210000Z
X-MICROSOFT-CDO-ALLDAYEVENT:FALSE
SUMMARY:5th Annual Mental Health Month Celebration
DESCRIPTION:Solano County Behavioral Health invites everyone to join them at the fifth annual Mental Health Awareness Month Celebration on Saturday\, May 4 at the County Events Center 601 Texas Street in Fairfield. This year's theme is "Speak Up\, Live Loud\," and serves two purposes\, including encouraging the community to talk about mental health and to know what state and local resources are available to them. Activities are centered around the expressive arts\, including a drumming circle\, yoga\, Zumba\, rock painting and arts and crafts. In addition to these family-friendly activities   fun for people of all ages   there will also be a food truck and free snacks for attendees. In addition to the family-friendly activities\, several health care resources will be available to attendees to learn about and have access to resources available to them in Solano County\, including mental health and wellness\, counseling\, youth and family services\, nutrition and social services. This event is sponsored by the Solano County Department of Health and Social Services\, Behavioral Health Mental Health Services Act (MHSA) and a Community Sponsorship grant from Kaiser Permanente.
X-ALT-DESC;FMTTYPE=text/html:Solano County Behavioral Health invites everyone to join them at the fifth annual Mental Health Awareness Month Celebration on Saturday\, May 4 at the County Events Center 601 Texas Street in Fairfield. This year&rsquo\;s theme is &ldquo\;Speak Up\, Live Loud\,&rdquo\; and serves two purposes\, including encouraging the community to talk about mental health and to know what state and local resources are available to them. Activities are centered around the expressive arts\, including a drumming circle\, yoga\, Zumba\, rock painting and arts and crafts. In addition to these family-friendly activities &ndash\; fun for people of all ages &ndash\; there will also be a food truck and free snacks for attendees. In addition to the family-friendly activities\, several health care resources will be available to attendees to learn about and have access to resources available to them in Solano County\, including mental health and wellness\, counseling\, youth and family services\, nutrition and social services. This event is sponsored by the Solano County Department of Health and Social Services\, Behavioral Health Mental Health Services Act (MHSA) and a Community Sponsorship grant from Kaiser Permanente.
LOCATION:County Events Center 601 Texas Street Fairfield\, CA 94534
UID:e.1602.7082
SEQUENCE:3
DTSTAMP:20260424T114253Z
URL:https://business.fairfieldsuisunchamber.com/events/details/5th-annual-mental-health-month-celebration-7082
END:VEVENT

END:VCALENDAR
