BEGIN:VCALENDAR
VERSION:2.0
PRODID:-//ChamberMaster//Event Calendar 2.0//EN
METHOD:PUBLISH
X-PUBLISHED-TTL:P3D
REFRESH-INTERVAL:P3D
CALSCALE:GREGORIAN
BEGIN:VEVENT
DTSTART:20190622T200000Z
DTEND:20190622T230000Z
X-MICROSOFT-CDO-ALLDAYEVENT:FALSE
SUMMARY:6th Annual Big Solano Brewhaha
DESCRIPTION:Charity craft brewfest featuring unlimited samples from local and regional brewers and winemakers. Great local food\, live music and raffles. Proceeds benefit Child Haven Inc providing therapeutic services to children traumatized by abuse\, neglect\, sexual abuse and domestic violence. Must be 21+
X-ALT-DESC;FMTTYPE=text/html:Charity craft brewfest featuring unlimited samples from local and regional brewers and winemakers. Great local food\, live music and raffles. Proceeds benefit Child Haven Inc providing therapeutic services to children traumatized by abuse\, neglect\, sexual abuse and domestic violence. Must be 21+
LOCATION:Porter Plaza (next to Umpqua Bank 411 Davis Street Vacaville
UID:e.1602.7116
SEQUENCE:3
DTSTAMP:20260424T101112Z
URL:https://business.fairfieldsuisunchamber.com/events/details/6th-annual-big-solano-brewhaha-06-22-2019-7116
END:VEVENT

END:VCALENDAR
