BEGIN:VCALENDAR
VERSION:2.0
PRODID:-//ChamberMaster//Event Calendar 2.0//EN
METHOD:PUBLISH
X-PUBLISHED-TTL:P3D
REFRESH-INTERVAL:P3D
CALSCALE:GREGORIAN
BEGIN:VEVENT
DTSTART:20190212T200000Z
DTEND:20190212T210000Z
X-MICROSOFT-CDO-ALLDAYEVENT:FALSE
SUMMARY:A&P License Lunch & Learn Free Workshop and Q&A
DESCRIPTION:Airframe & Powerplant Lunch & Learn Free Workshop Feb 12th at 12pm at the Embry-Riddle Aeronautical University Travis Campus Learn about getting your A&P License This free informational event will explore how to get your A&P license\, how you can use an A&P\, and how to obtain funding for the training and testing needed. We will also cover where to find study materials for the exams. There will be guest speakers from the FAA\, current A&P mechanics\, and major airline representatives available to answer any questions you may have. The information given during this workshop can be used by everyone and is not only specific to Embry-Riddle. All attendees at the Travis Campus will be provided a free lunch. This event is open to everyone: current students\, non-students\, military\, and non-military people. If you do not have base access\, please let us know so we can help you. Hope to see you there! Please RSVP for this event by Monday\, February 11th to travis@erau.edu.
X-ALT-DESC;FMTTYPE=text/html:Airframe &amp\; Powerplant Lunch &amp\; Learn Free Workshop Feb 12th at 12pm at the Embry-Riddle Aeronautical University Travis Campus Learn about getting your A&amp\;P License This free informational event will explore how to get your A&amp\;P license\, how you can use an A&amp\;P\, and how to obtain funding for the training and testing needed. We will also cover where to find study materials for the exams. There will be guest speakers from the FAA\, current A&amp\;P mechanics\, and major airline representatives available to answer any questions you may have. The information given during this workshop can be used by everyone and is not only specific to Embry-Riddle. All attendees at the Travis Campus will be provided a free lunch. This event is open to everyone: current students\, non-students\, military\, and non-military people. If you do not have base access\, please let us know so we can help you. Hope to see you there! Please RSVP for this event by Monday\, February 11th to <a href="mailto:travis@erau.edu">travis@erau.edu</a>.
LOCATION:Embry-Riddle Travis Campus\, D-bay Classroom 214
UID:e.1602.6996
SEQUENCE:3
DTSTAMP:20260424T161105Z
URL:https://business.fairfieldsuisunchamber.com/events/details/a-p-license-lunch-learn-free-workshop-and-q-a-6996
END:VEVENT

END:VCALENDAR
