BEGIN:VCALENDAR
VERSION:2.0
PRODID:-//ChamberMaster//Event Calendar 2.0//EN
METHOD:PUBLISH
X-PUBLISHED-TTL:P3D
REFRESH-INTERVAL:P3D
CALSCALE:GREGORIAN
BEGIN:VEVENT
DTSTART:20200114T160000Z
DTEND:20200114T170000Z
X-MICROSOFT-CDO-ALLDAYEVENT:FALSE
SUMMARY:Advocacy Council Meeting
DESCRIPTION:Advocacy Council\n\nAdvocacy Council meeting next Tuesday\, January 14th\, 8:00am - 9:00am at the Chamber office. \n\n \n\nThis month\, Solano Transportation Authority's Executive Director\, Daryl Halls will be providing an update of transportation projects in Solano County\, including high priority projects such as the I-80 Managed Lanes Project\, which would add an additional 10 miles of new lanes in both directions between Airbase Parkway and I-505 in Vacaville. Mr. Halls will also provide an update of STA's programs to connect commuters with the many regional transit options\, including SolanoExpress\, Capitol Corridor\, and the San Francisco Bay Ferry.\n\n\n\n\n\nStrategy and Communication Plans\n\nVision: To be the Voice for business in the Fairfield and Suisun City region.\n\nMission: To assist the Chamber in being a strong and strategic advocate for its members\, while strengthening the economic vitality of area businesses and enhancing the quality of life in the community. \n\nGOALS AND STRATEGIES:\n\nIn addition to the mission and goals set forth by the Fairfield-Suisun Chamber of Commerce\, the Advocacy Council will enhance and more tightly focus its efforts to achieve specific strategic goals over the next two years. These include:\n\nSERVE AS THE VOICE FOR BUSINESS:\n\nThe Chamber advocates for business success and regional economic growth by promoting policy and funding decisions on behalf of its members to local\, state and federal government officials. \n\n\n	Promoting its positions on key local\, state\, and federal issues impacting businesses\;\n	Recruiting business-friendly candidates for elected officials\; \n	Working collaboratively with governement leaders to provide positive outcomes for its members
X-ALT-DESC;FMTTYPE=text/html:<h2 class="c-title" style="box-sizing: border-box\; font-family: Bitter\, Georgia\, serif\; line-height: 1.3\; color: rgb(20\, 20\, 18)\; margin: 25px 0px\; font-size: 30px\; clear: both\;">Advocacy Council</h2>\n\n<div style="color: rgb(34\, 34\, 34)\; font-family: Calibri\; font-size: 14.6667px\;">Advocacy Council meeting next&nbsp\;<b>Tuesday\, January 14th\, 8:00am - 9:00am at the Chamber office</b>.&nbsp\;</div>\n\n<div style="color: rgb(34\, 34\, 34)\; font-family: Calibri\; font-size: 14.6667px\;">&nbsp\;</div>\n\n<div style="color: rgb(34\, 34\, 34)\; font-family: Calibri\; font-size: 14.6667px\;">This month\, Solano Transportation Authority&rsquo\;s Executive Director\, Daryl Halls will be providing an update of transportation projects in Solano County\, including high priority projects such as the I-80 Managed Lanes Project\, which would add an additional 10 miles of new lanes in both directions between Airbase Parkway and I-505 in Vacaville. Mr. Halls will also provide an update of STA&rsquo\;s programs to connect commuters with the many regional transit options\, including SolanoExpress\, Capitol Corridor\, and the San Francisco Bay Ferry.<br />\n<br />\n<br />\n<strong style="box-sizing: border-box\;">Strategy and Communication Plans</strong></div>\n\n<p style="box-sizing: border-box\; margin: 0px 0px 24px\; color: rgb(20\, 20\, 18)\; font-family: &quot\;Helvetica Neue&quot\;\, Helvetica\, Arial\, sans-serif\; font-size: 14px\;">Vision: To be the Voice for business in the Fairfield and Suisun City region.</p>\n\n<p style="box-sizing: border-box\; margin: 0px 0px 24px\; color: rgb(20\, 20\, 18)\; font-family: &quot\;Helvetica Neue&quot\;\, Helvetica\, Arial\, sans-serif\; font-size: 14px\;"><em style="box-sizing: border-box\;">Mission: To assist the Chamber in being a strong and strategic advocate for its members\, while strengthening the economic vitality of area businesses and enhancing the quality of life in the community.&nbsp\;</em></p>\n\n<p style="box-sizing: border-box\; margin: 0px 0px 24px\; color: rgb(20\, 20\, 18)\; font-family: &quot\;Helvetica Neue&quot\;\, Helvetica\, Arial\, sans-serif\; font-size: 14px\;"><strong style="box-sizing: border-box\;">GOALS AND STRATEGIES:</strong></p>\n\n<p style="box-sizing: border-box\; margin: 0px 0px 24px\; color: rgb(20\, 20\, 18)\; font-family: &quot\;Helvetica Neue&quot\;\, Helvetica\, Arial\, sans-serif\; font-size: 14px\;">In addition to the mission and goals set forth by the Fairfield-Suisun Chamber of Commerce\, the Advocacy Council will enhance and more tightly focus its efforts to achieve specific strategic goals over the next two years. These include:</p>\n\n<p style="box-sizing: border-box\; margin: 0px 0px 24px\; color: rgb(20\, 20\, 18)\; font-family: &quot\;Helvetica Neue&quot\;\, Helvetica\, Arial\, sans-serif\; font-size: 14px\;"><strong style="box-sizing: border-box\;">SERVE AS THE VOICE FOR BUSINESS:</strong></p>\n\n<p style="box-sizing: border-box\; margin: 0px 0px 24px\; color: rgb(20\, 20\, 18)\; font-family: &quot\;Helvetica Neue&quot\;\, Helvetica\, Arial\, sans-serif\; font-size: 14px\;">The Chamber advocates for business success and regional economic growth by promoting policy and funding decisions on behalf of its members to local\, state and federal government officials.&nbsp\;</p>\n\n<ul style="box-sizing: border-box\; margin: 16px 0px\; padding-right: 0px\; list-style-type: square\; color: rgb(20\, 20\, 18)\; font-family: &quot\;Helvetica Neue&quot\;\, Helvetica\, Arial\, sans-serif\; font-size: 14px\;">\n	<li style="box-sizing: border-box\;">Promoting its positions on key local\, state\, and federal issues impacting businesses\;</li>\n	<li style="box-sizing: border-box\;">Recruiting business-friendly candidates for elected officials\;&nbsp\;</li>\n	<li style="box-sizing: border-box\;">Working collaboratively with governement leaders to provide positive outcomes for its members</li>\n</ul>\n
LOCATION:Fairfield-Suisun Chamber of Commerce 1111 Webster St.\, Fairfield
UID:e.1602.3702
SEQUENCE:3
DTSTAMP:20260423T234259Z
URL:https://business.fairfieldsuisunchamber.com/events/details/advocacy-council-meeting-01-14-2020-3702
END:VEVENT

END:VCALENDAR
