BEGIN:VCALENDAR
VERSION:2.0
PRODID:-//ChamberMaster//Event Calendar 2.0//EN
METHOD:PUBLISH
X-PUBLISHED-TTL:P3D
REFRESH-INTERVAL:P3D
CALSCALE:GREGORIAN
BEGIN:VEVENT
DTSTART:20220208T160000Z
DTEND:20220208T170000Z
X-MICROSOFT-CDO-ALLDAYEVENT:FALSE
SUMMARY:Advocacy Council Meeting
DESCRIPTION:The Fairfield-Suisun Chamber advocates for business success and regional economic growth by promoting policy and funding decisions on behalf of its members to local\, state\, and federal government officials.\n\nThe next meeting is on February 8th at 8 am on Zoom.\n\n\n\nSpeaker: Suisun City Mayor Lori Wilson\n\n\n\nMayor Lori Wilson is running for the state's 11th Assembly District\, previously held by Assemblyman Jim Frazier. The 11th District expands through Fairfield\, Suisun City\, Vacaville\, Rio Vista\, Antioch\, and Brentwood. A special election will take place on April 5th\, 2022. This meeting is open to all of our members\, and participation is encouraged.\n\n\n\n\n\nZoom Details:\n\nhttps://us02web.zoom.us/j/87943942036?pwd=d1pITVNncTFud0kzbEd3T0ZKdTVkUT09\n\nMeeting ID: 879 4394 2036\n\nPasscode: 778824\n\nOne tap mobile\n\n+16699009128\,\,87943942036#\,\,\,\,*778824# US (San Jose)\n\n+12532158782\,\,87943942036#\,\,\,\,*778824# US (Tacoma)\n\nDial by your location\n\n+1 669 900 9128 US (San Jose)
X-ALT-DESC;FMTTYPE=text/html:The Fairfield-Suisun Chamber advocates for business success and regional economic growth by promoting policy and funding decisions on behalf of its members to local\, state\, and federal government officials.<br />\nThe next meeting is on February 8th at 8 am on Zoom.<br />\n<br />\n<span style="font-size:18px\;">Speaker: Suisun City Mayor Lori Wilson</span><br />\n<br />\nMayor Lori Wilson is running for the state&rsquo\;s 11th Assembly District\, previously held by Assemblyman Jim Frazier. The 11th District expands through Fairfield\, Suisun City\, Vacaville\, Rio Vista\, Antioch\, and Brentwood. A special election will take place on April 5th\, 2022. This meeting is open to all of our members\, and participation is encouraged.<br />\n<br />\n<br />\n<span style="font-size:18px\;">Zoom Details:</span><br />\n<a href="https://us02web.zoom.us/j/87943942036?pwd=d1pITVNncTFud0kzbEd3T0ZKdTVkUT09">https://us02web.zoom.us/j/87943942036?pwd=d1pITVNncTFud0kzbEd3T0ZKdTVkUT09</a><br />\nMeeting ID: 879 4394 2036<br />\nPasscode: 778824<br />\nOne tap mobile<br />\n+16699009128\,\,87943942036#\,\,\,\,*778824# US (San Jose)<br />\n+12532158782\,\,87943942036#\,\,\,\,*778824# US (Tacoma)<br />\nDial by your location<br />\n+1 669 900 9128 US (San Jose)
LOCATION:Zoom
UID:e.1602.3676
SEQUENCE:3
DTSTAMP:20260420T061925Z
URL:https://business.fairfieldsuisunchamber.com/events/details/advocacy-council-meeting-3676
END:VEVENT

END:VCALENDAR
