BEGIN:VCALENDAR
VERSION:2.0
PRODID:-//ChamberMaster//Event Calendar 2.0//EN
METHOD:PUBLISH
X-PUBLISHED-TTL:P3D
REFRESH-INTERVAL:P3D
CALSCALE:GREGORIAN
BEGIN:VEVENT
DTSTART:20220308T160000Z
DTEND:20220308T170000Z
X-MICROSOFT-CDO-ALLDAYEVENT:FALSE
SUMMARY:Advocacy Council Meeting
DESCRIPTION:SB 1383 regulations went into effect on January 1\, 2022. The regulations aim to divert 50% of organic waste from landfills below 2014 levels by 2020 and 75% by 2025. SB 1383 also requires that jurisdictions conduct education and outreach on organics recycling to all residents\, businesses (including those that generate edible food that can be donated)\, haulers\, solid waste facilities\, local food banks\, and other food recovery organizations. Corey Beavers from the City of Fairfield and Sandra Gonzalez from Republic Services will present on SB1383 Organic Waste.\n\n\n\nMarch 8th\, 2022\n\n8:00 am to 9:00 am\n\nJoin Zoom Meeting\n\nhttps://us02web.zoom.us/j/84375754065?pwd=aVhYdkJiTDBtUkpLd2JOYVp3Q0NYUT09\n\n\n\nMeeting ID: 843 7575 4065\n\nPasscode: 491806\n\nOne tap mobile\n\n+13462487799\,\,84375754065#\,*491806# US (Houston)\n\n+16465588656\,\,84375754065#\,\,\,\,*491806# US (New York)\n\n\n\nDial by your location\n\n+1 346 248 7799 US (Houston)\n\n+1 646 558 8656 US (New York)\n\n+1 669 900 9128 US (San Jose)\n\n+1 253 215 8782 US (Tacoma)\n\n+1 301 715 8592 US (Washington DC)\n\n+1 312 626 6799 US (Chicago)\n\nMeeting ID: 843 7575 4065\n\nPasscode: 491806\n\nFind your local number: https://us02web.zoom.us/u/keaeNAcDfk
X-ALT-DESC;FMTTYPE=text/html:SB 1383 regulations went into effect on January 1\, 2022. The regulations aim to divert 50% of organic waste from landfills below 2014 levels by 2020 and 75% by 2025. SB 1383 also requires that jurisdictions conduct education and outreach on organics recycling to all residents\, businesses (including those that generate edible food that can be donated)\, haulers\, solid waste facilities\, local food banks\, and other food recovery organizations.&nbsp\;Corey Beavers from the City of Fairfield and Sandra Gonzalez from Republic Services will present on SB1383 Organic Waste.<br />\n<br />\n<span style="font-size: 20px\;"><span style="color: rgb(34\, 34\, 34)\; font-family: Arial\;">March 8th\, 2022</span><br style="color: rgb(34\, 34\, 34)\; font-family: Arial\; font-size: 13.3333px\;" />\n<span style="color: rgb(34\, 34\, 34)\; font-family: Arial\;">8:00 am to 9:00 am</span><br style="color: rgb(34\, 34\, 34)\; font-family: Arial\; font-size: 13.3333px\;" />\n<u><a href="https://us02web.zoom.us/j/84375754065?pwd=aVhYdkJiTDBtUkpLd2JOYVp3Q0NYUT09"><span style="color: rgb(34\, 34\, 34)\; font-family: Arial\;">Join Zoom Meeting</span></a></u><br style="color: rgb(34\, 34\, 34)\; font-family: Arial\; font-size: 13.3333px\;" />\n<a data-saferedirecturl="https://www.google.com/url?q=https://us02web.zoom.us/j/84375754065?pwd%3DaVhYdkJiTDBtUkpLd2JOYVp3Q0NYUT09&amp\;source=gmail&amp\;ust=1646760974410000&amp\;usg=AOvVaw2hC0tM2nwta7-wlwOMxCbW" href="https://us02web.zoom.us/j/84375754065?pwd=aVhYdkJiTDBtUkpLd2JOYVp3Q0NYUT09" style="color: rgb(17\, 85\, 204)\; font-family: Arial\; font-size: 13.3333px\;" target="_blank">https://us02web.zoom.us/j/<wbr />84375754065?pwd=<wbr />aVhYdkJiTDBtUkpLd2JOYVp3Q0NYUT<wbr />09</a></span><br style="color: rgb(34\, 34\, 34)\; font-family: Arial\; font-size: 13.3333px\;" />\n<br style="color: rgb(34\, 34\, 34)\; font-family: Arial\; font-size: 13.3333px\;" />\n<span style="color: rgb(34\, 34\, 34)\; font-family: Arial\; font-size: 13.3333px\;">Meeting ID: 843 7575 4065</span><br style="color: rgb(34\, 34\, 34)\; font-family: Arial\; font-size: 13.3333px\;" />\n<span style="color: rgb(34\, 34\, 34)\; font-family: Arial\; font-size: 13.3333px\;">Passcode: 491806</span><br style="color: rgb(34\, 34\, 34)\; font-family: Arial\; font-size: 13.3333px\;" />\n<span style="color: rgb(34\, 34\, 34)\; font-family: Arial\; font-size: 13.3333px\;">One tap mobile</span><br style="color: rgb(34\, 34\, 34)\; font-family: Arial\; font-size: 13.3333px\;" />\n<span style="color: rgb(34\, 34\, 34)\; font-family: Arial\; font-size: 13.3333px\;">+13462487799\,\,84375754065#\,*</span><wbr style="color: rgb(34\, 34\, 34)\; font-family: Arial\; font-size: 13.3333px\;" /><span style="color: rgb(34\, 34\, 34)\; font-family: Arial\; font-size: 13.3333px\;">491806# US (Houston)</span><br style="color: rgb(34\, 34\, 34)\; font-family: Arial\; font-size: 13.3333px\;" />\n<span style="color: rgb(34\, 34\, 34)\; font-family: Arial\; font-size: 13.3333px\;">+16465588656\,\,84375754065#\,\,\,\,</span><wbr style="color: rgb(34\, 34\, 34)\; font-family: Arial\; font-size: 13.3333px\;" /><span style="color: rgb(34\, 34\, 34)\; font-family: Arial\; font-size: 13.3333px\;">*491806# US (New York)</span><br style="color: rgb(34\, 34\, 34)\; font-family: Arial\; font-size: 13.3333px\;" />\n<br style="color: rgb(34\, 34\, 34)\; font-family: Arial\; font-size: 13.3333px\;" />\n<span style="color: rgb(34\, 34\, 34)\; font-family: Arial\; font-size: 13.3333px\;">Dial by your location</span><br style="color: rgb(34\, 34\, 34)\; font-family: Arial\; font-size: 13.3333px\;" />\n<span style="color: rgb(34\, 34\, 34)\; font-family: Arial\; font-size: 13.3333px\;">+1 346 248 7799 US (Houston)</span><br style="color: rgb(34\, 34\, 34)\; font-family: Arial\; font-size: 13.3333px\;" />\n<span style="color: rgb(34\, 34\, 34)\; font-family: Arial\; font-size: 13.3333px\;">+1 646 558 8656 US (New York)</span><br style="color: rgb(34\, 34\, 34)\; font-family: Arial\; font-size: 13.3333px\;" />\n<span style="color: rgb(34\, 34\, 34)\; font-family: Arial\; font-size: 13.3333px\;">+1 669 900 9128 US (San Jose)</span><br style="color: rgb(34\, 34\, 34)\; font-family: Arial\; font-size: 13.3333px\;" />\n<span style="color: rgb(34\, 34\, 34)\; font-family: Arial\; font-size: 13.3333px\;">+1 253 215 8782 US (Tacoma)</span><br style="color: rgb(34\, 34\, 34)\; font-family: Arial\; font-size: 13.3333px\;" />\n<span style="color: rgb(34\, 34\, 34)\; font-family: Arial\; font-size: 13.3333px\;">+1 301 715 8592 US (Washington DC)</span><br style="color: rgb(34\, 34\, 34)\; font-family: Arial\; font-size: 13.3333px\;" />\n<span style="color: rgb(34\, 34\, 34)\; font-family: Arial\; font-size: 13.3333px\;">+1 312 626 6799 US (Chicago)</span><br style="color: rgb(34\, 34\, 34)\; font-family: Arial\; font-size: 13.3333px\;" />\n<span style="color: rgb(34\, 34\, 34)\; font-family: Arial\; font-size: 13.3333px\;">Meeting ID: 843 7575 4065</span><br style="color: rgb(34\, 34\, 34)\; font-family: Arial\; font-size: 13.3333px\;" />\n<span style="color: rgb(34\, 34\, 34)\; font-family: Arial\; font-size: 13.3333px\;">Passcode: 491806</span><br style="color: rgb(34\, 34\, 34)\; font-family: Arial\; font-size: 13.3333px\;" />\n<span style="color: rgb(34\, 34\, 34)\; font-family: Arial\; font-size: 13.3333px\;">Find your local number:&nbsp\;</span><a data-saferedirecturl="https://www.google.com/url?q=https://us02web.zoom.us/u/keaeNAcDfk&amp\;source=gmail&amp\;ust=1646760974410000&amp\;usg=AOvVaw2UWaMm7ZiLsrR6SpCxG6w_" href="https://us02web.zoom.us/u/keaeNAcDfk" style="color: rgb(17\, 85\, 204)\; font-family: Arial\; font-size: 13.3333px\;" target="_blank">https://us02web.zoom.us/u/<wbr />keaeNAcDfk</a>
LOCATION:
UID:e.1602.7541
SEQUENCE:3
DTSTAMP:20260420T045827Z
URL:https://business.fairfieldsuisunchamber.com/events/details/advocacy-council-meeting-7541
END:VEVENT

END:VCALENDAR
