BEGIN:VCALENDAR
VERSION:2.0
PRODID:-//ChamberMaster//Event Calendar 2.0//EN
METHOD:PUBLISH
X-PUBLISHED-TTL:P3D
REFRESH-INTERVAL:P3D
CALSCALE:GREGORIAN
BEGIN:VEVENT
DTSTART:20220510T150000Z
DTEND:20220510T160000Z
X-MICROSOFT-CDO-ALLDAYEVENT:FALSE
SUMMARY:Advocacy Council Meeting: Fairfield's ARPA Funds
DESCRIPTION:The City of Fairfield received $19\,805\,577 in American Rescue Plan Act (ARPA) funding. David Gassaway\, Interim City Manager for Fairfield\, will present how the city is using or intends to use ARPA funds.\n\n\n\nJoin Zoom Meeting\n\nhttps://us02web.zoom.us/j/85767483471?pwd=RmR4Z0lKWCtYR3pKRUhVc3BNOFhGUT09\n\n\n\nMeeting ID: 857 6748 3471\n\nPasscode: 711746\n\nOne tap mobile\n\n+16699009128\,\,85767483471#\,\,\,\,*711746# US (San Jose)\n\n+13462487799\,\,85767483471#\,\,\,\,*711746# US (Houston)\n\n\n\nDial by your location\n\n        +1 669 900 9128 US (San Jose)\n\n        +1 346 248 7799 US (Houston)\n\n        +1 253 215 8782 US (Tacoma)\n\n        +1 301 715 8592 US (Washington DC)\n\n        +1 312 626 6799 US (Chicago)\n\n        +1 646 558 8656 US (New York)\n\nMeeting ID: 857 6748 3471\n\nPasscode: 711746\n\nFind your local number: https://us02web.zoom.us/u/kTDk86g9
X-ALT-DESC;FMTTYPE=text/html:The City of Fairfield received $19\,805\,577 in American Rescue Plan Act (ARPA) funding. David Gassaway\, Interim City Manager for Fairfield\, will present how the city is using or intends to use ARPA funds.<br>\n<br>\nJoin Zoom Meeting<br>\n<a href="https://us02web.zoom.us/j/85767483471?pwd=RmR4Z0lKWCtYR3pKRUhVc3BNOFhGUT09">https://us02web.zoom.us/j/85767483471?pwd=RmR4Z0lKWCtYR3pKRUhVc3BNOFhGUT09</a><br>\n<br>\nMeeting ID: 857 6748 3471<br>\nPasscode: 711746<br>\nOne tap mobile<br>\n+16699009128\,\,85767483471#\,\,\,\,*711746# US (San Jose)<br>\n+13462487799\,\,85767483471#\,\,\,\,*711746# US (Houston)<br>\n<br>\nDial by your location<br>\n&nbsp\; &nbsp\; &nbsp\; &nbsp\; +1 669 900 9128 US (San Jose)<br>\n&nbsp\; &nbsp\; &nbsp\; &nbsp\; +1 346 248 7799 US (Houston)<br>\n&nbsp\; &nbsp\; &nbsp\; &nbsp\; +1 253 215 8782 US (Tacoma)<br>\n&nbsp\; &nbsp\; &nbsp\; &nbsp\; +1 301 715 8592 US (Washington DC)<br>\n&nbsp\; &nbsp\; &nbsp\; &nbsp\; +1 312 626 6799 US (Chicago)<br>\n&nbsp\; &nbsp\; &nbsp\; &nbsp\; +1 646 558 8656 US (New York)<br>\nMeeting ID: 857 6748 3471<br>\nPasscode: 711746<br>\nFind your local number: https://us02web.zoom.us/u/kTDk86g9
LOCATION:Zoom
UID:e.1602.7687
SEQUENCE:3
DTSTAMP:20260420T022601Z
URL:https://business.fairfieldsuisunchamber.com/events/details/advocacy-council-meeting-fairfield-s-arpa-funds-7687
END:VEVENT

END:VCALENDAR
