BEGIN:VCALENDAR
VERSION:2.0
PRODID:-//ChamberMaster//Event Calendar 2.0//EN
METHOD:PUBLISH
X-PUBLISHED-TTL:P3D
REFRESH-INTERVAL:P3D
CALSCALE:GREGORIAN
BEGIN:VEVENT
DTSTART:20180206T160000Z
DTEND:20180206T170000Z
X-MICROSOFT-CDO-ALLDAYEVENT:FALSE
SUMMARY:Fairfield-Suisun Chamber of Commerce Ambassador Meeting
DESCRIPTION:Have you ever thought about becoming an Ambassador for the Fairfield-Suisun Chamber of Commerce?\n\nAmbassador Committee Members are individuals that volunteer at Chamber Mixers\, Ribbon Cuttings and Grand Openings. It's a wonderful opportunity to network with the local business community and get an up-close look at what the Fairfield-Suisun Chamber is all about.\n\n \n\nIf you would like to know more about becoming an Chamber Ambassador\, please contact the Chamber Office\, (707) 425-4625 or Chief Ambassador\, Tempe Hoover at tempe@gillespiesabbeycarpet.com
X-ALT-DESC;FMTTYPE=text/html:<p><span style="font-size:20px\;"><span style="color: rgb(29\, 33\, 41)\; background-color: rgb(255\, 255\, 255)\;">Have you ever thought about becoming an Ambassador for the Fairfield-Suisun Chamber of Commerce?<br />\nAmbassador Committee&nbsp\;Members are individuals that volunteer&nbsp\;at Chamber Mixers\, Ribbon Cuttings and Grand Openings. It&#39\;s a wonderful opportunity to network with the local business community and get an up-close look at what the Fairfield-Suisun Chamber&nbsp\;is all about.</span></span><br />\n&nbsp\;</p>\n\n<p><span style="font-size:20px\;"><span style="color: rgb(51\, 51\, 51)\; background-color: rgb(255\, 255\, 255)\;">If you would like to know more about becoming an Chamber Ambassador\, please contact the Chamber Office\, (707) 425-4625 or Chief Ambassador\, Tempe Hoover at&nbsp\;</span>tempe@gillespiesabbeycarpet.com</span></p>\n
LOCATION:Fairfield-Suisun Chamber of Commerce 1111 Webster Street Fairfield\, CA 94533
UID:e.1602.343
SEQUENCE:3
DTSTAMP:20260425T111447Z
URL:https://business.fairfieldsuisunchamber.com/events/details/ambassador-meeting-02-06-2018-343
END:VEVENT

END:VCALENDAR
