BEGIN:VCALENDAR
VERSION:2.0
PRODID:-//ChamberMaster//Event Calendar 2.0//EN
METHOD:PUBLISH
X-PUBLISHED-TTL:P3D
REFRESH-INTERVAL:P3D
CALSCALE:GREGORIAN
BEGIN:VEVENT
DTSTART:20190928T170000Z
DTEND:20190928T230000Z
X-MICROSOFT-CDO-ALLDAYEVENT:FALSE
SUMMARY:Artistry in Fashion
DESCRIPTION:The 30th annual Artistry in Fashion event\, hosted by the Ca ada College Fashion Department\, returns on Saturday\, September 28\, 2019 from 10am to 4pm at Ca ada College. The all-day event features an outdoor shopping extravaganza with local designers selling clothes\, jewelry\, and accessories\; an Open House displaying student projects from noon to 3pm\; a designer fashion show at 11am\; food\; and free parking. Our featured guest is Sarah Veblen\, author\, lecturer and sewing professional. A $10 donation is requested for entry. All proceeds benefit the fashion student scholarship fund. For more information\, visit www.ArtistryInFashion.com or call 650-306-3370. Ca ada College is located at 4200 Farm Hill Boulevard in Redwood City\, CA.
X-ALT-DESC;FMTTYPE=text/html:The 30th annual Artistry in Fashion event\, hosted by the Ca&ntilde\;ada College Fashion Department\, returns on Saturday\, September 28\, 2019 from 10am to 4pm at Ca&ntilde\;ada College. The all-day event features an outdoor shopping extravaganza with local designers selling clothes\, jewelry\, and accessories\; an Open House displaying student projects from noon to 3pm\; a designer fashion show at 11am\; food\; and free parking. Our featured guest is Sarah Veblen\, author\, lecturer and sewing professional. A $10 donation is requested for entry. All proceeds benefit the fashion student scholarship fund. For more information\, visit www.ArtistryInFashion.com or call 650-306-3370. Ca&ntilde\;ada College is located at 4200 Farm Hill Boulevard in Redwood City\, CA.
LOCATION:Ca ada College 4200 Farm Hill Blvd Redwood City\, CA 94061
UID:e.1602.7281
SEQUENCE:3
DTSTAMP:20260424T053627Z
URL:https://business.fairfieldsuisunchamber.com/events/details/artistry-in-fashion-09-28-2019-7281
END:VEVENT

END:VCALENDAR
