BEGIN:VCALENDAR
VERSION:2.0
PRODID:-//ChamberMaster//Event Calendar 2.0//EN
METHOD:PUBLISH
X-PUBLISHED-TTL:P3D
REFRESH-INTERVAL:P3D
CALSCALE:GREGORIAN
BEGIN:VEVENT
DTSTART:20190929T170000Z
DTEND:20190929T210000Z
X-MICROSOFT-CDO-ALLDAYEVENT:FALSE
SUMMARY:Bird of Prey Hikes
DESCRIPTION:Bird of Prey Hikes
X-ALT-DESC;FMTTYPE=text/html:Bird of Prey Hikes&nbsp\;&nbsp\;&nbsp\;&nbsp\;
LOCATION:Lynch Canyon Open Space 3100 Lynch Rd. Fairfield\, Calif 94534
UID:e.1602.7323
SEQUENCE:3
DTSTAMP:20260424T053332Z
URL:https://business.fairfieldsuisunchamber.com/events/details/bird-of-prey-hikes-7323
END:VEVENT

END:VCALENDAR
