BEGIN:VCALENDAR
VERSION:2.0
PRODID:-//ChamberMaster//Event Calendar 2.0//EN
METHOD:PUBLISH
X-PUBLISHED-TTL:P3D
REFRESH-INTERVAL:P3D
CALSCALE:GREGORIAN
BEGIN:VEVENT
DTSTART:20191208T180000Z
DTEND:20191208T220000Z
X-MICROSOFT-CDO-ALLDAYEVENT:FALSE
SUMMARY:Bird of Prey Hikes
DESCRIPTION:Bird of Prey Hike
X-ALT-DESC;FMTTYPE=text/html:Bird of Prey Hike
LOCATION:Lynch Canyon Open Space 3100 Lynch Rd. Fairfield\, Ca 94534
UID:e.1602.7329
SEQUENCE:3
DTSTAMP:20260424T005249Z
URL:https://business.fairfieldsuisunchamber.com/events/details/bird-of-prey-hikes-7329
END:VEVENT

END:VCALENDAR
