BEGIN:VCALENDAR
VERSION:2.0
PRODID:-//ChamberMaster//Event Calendar 2.0//EN
METHOD:PUBLISH
X-PUBLISHED-TTL:P3D
REFRESH-INTERVAL:P3D
CALSCALE:GREGORIAN
BEGIN:VEVENT
DTSTART:20181103T210000Z
DTEND:20181104T000000Z
X-MICROSOFT-CDO-ALLDAYEVENT:FALSE
SUMMARY:Black Rock Project play Seven Artisans Winery
DESCRIPTION:Saturday\, November 3rd\n\n2:00   5:00 PM\n\n \n\nSEVEN ARTISANS WINERY\n\nPresents:\n\n \n\nThe Black Rock Project\n\n \n\n$15 includes one glass of wine\n\n \n\nFood Available from :\n\n \n\nFRED'S CATERING\n\n \n\n \n\nJoin us for an afternoon of fantastic music\, \n\ndancing\, good food\, great people and fun!\n\n \n\n \n\nSeven Artisans Winery\n\n4341 Abernathy Road\n\nFairfield\, CA 94534\n\n \n\nCall Bob: (707) 771-0911\n\nsevenartisanswinery@gmail.com\n\n \n\nNo outside alcohol permitted\n\n \n\nWe'll see you on "the lawn"
X-ALT-DESC;FMTTYPE=text/html:<p style="text-align:center"><strong><span style="font-family:bahnschrift semicondensed\,sans-serif\; font-size:26pt">&nbsp\;</span></strong></p>\n\n<p style="text-align:center"><strong><span style="font-family:bahnschrift semicondensed\,sans-serif\; font-size:26pt">Saturday\, November 3<sup>rd</sup></span></strong></p>\n\n<p style="text-align:center"><strong><span style="font-family:bahnschrift semicondensed\,sans-serif\; font-size:26pt">2:00 &ndash\; 5:00 PM</span></strong></p>\n\n<p style="text-align:center"><strong><span style="font-family:bahnschrift semicondensed\,sans-serif\; font-size:28pt">&nbsp\;</span></strong></p>\n\n<p style="text-align:center"><strong><span style="font-family:bahnschrift semicondensed\,sans-serif\; font-size:28pt">SEVEN ARTISANS WINERY</span></strong></p>\n\n<p style="text-align:center"><strong><span style="font-family:bahnschrift semicondensed\,sans-serif\; font-size:18pt">Presents:</span></strong></p>\n\n<p style="text-align:center"><strong><em><span style="font-family:bahnschrift semicondensed\,sans-serif\; font-size:36pt">&nbsp\;</span></em></strong></p>\n\n<p style="text-align:center"><strong><em><span style="font-family:bahnschrift semicondensed\,sans-serif\; font-size:36pt">The Black Rock Project</span></em></strong></p>\n\n<p><strong><em><span style="font-family:bahnschrift semicondensed\,sans-serif\; font-size:12pt">&nbsp\;</span></em></strong></p>\n\n<p style="text-align:center"><strong><em><span style="font-family:bahnschrift semicondensed\,sans-serif\; font-size:14pt">$15 includes one glass of wine</span></em></strong></p>\n\n<p style="text-align:center"><strong><em><span style="font-family:bahnschrift semicondensed\,sans-serif\; font-size:14pt">&nbsp\;</span></em></strong></p>\n\n<p style="text-align:center"><strong><em><span style="font-family:bahnschrift semicondensed\,sans-serif\; font-size:14pt">Food Available from :</span></em></strong></p>\n\n<p style="text-align:center"><strong><em><span style="font-family:bahnschrift semicondensed\,sans-serif\; font-size:14pt">&nbsp\;</span></em></strong></p>\n\n<p style="text-align:center"><strong><em><span style="font-family:bahnschrift semicondensed\,sans-serif\; font-size:28pt">FRED&rsquo\;S CATERING</span></em></strong></p>\n\n<p style="text-align:center"><strong><em><span style="font-family:bahnschrift semicondensed\,sans-serif\; font-size:20pt">&nbsp\;</span></em></strong></p>\n\n<p style="text-align:center"><strong><em><span style="font-family:bahnschrift semicondensed\,sans-serif\; font-size:14pt">&nbsp\;</span></em></strong></p>\n\n<p style="text-align:center"><strong><em><span style="font-family:bahnschrift semicondensed\,sans-serif\; font-size:14pt">Join us for an afternoon of fantastic music\, </span></em></strong></p>\n\n<p style="text-align:center"><strong><em><span style="font-family:bahnschrift semicondensed\,sans-serif\; font-size:14pt">dancing\, good food\, great people and fun!</span></em></strong></p>\n\n<p style="text-align:center"><strong><em><span style="font-family:bahnschrift semicondensed\,sans-serif\; font-size:14pt">&nbsp\;</span></em></strong></p>\n\n<p style="text-align:center"><strong><span style="font-family:bahnschrift semicondensed\,sans-serif\; font-size:14pt">&nbsp\;</span></strong></p>\n\n<p style="text-align:center"><strong><span style="font-family:bahnschrift semicondensed\,sans-serif\; font-size:20pt">Seven Artisans Winery</span></strong></p>\n\n<p style="text-align:center"><strong><span style="font-family:bahnschrift semicondensed\,sans-serif\; font-size:20pt">4341 Abernathy Road</span></strong></p>\n\n<p style="text-align:center"><strong><span style="font-family:bahnschrift semicondensed\,sans-serif\; font-size:20pt">Fairfield\, CA 94534</span></strong></p>\n\n<p style="text-align:center"><strong><span style="font-family:bahnschrift semicondensed\,sans-serif\; font-size:20pt">&nbsp\;</span></strong></p>\n\n<p style="text-align:center"><strong><span style="font-family:bahnschrift semicondensed\,sans-serif\; font-size:20pt">Call Bob: (707) 771-0911</span></strong></p>\n\n<p style="text-align:center"><span style="font-family:bahnschrift semicondensed\,sans-serif\; font-size:20pt"><strong>sevenartisanswinery@gmail.com</strong></span></p>\n\n<p style="text-align:center"><strong><span style="font-family:bahnschrift semicondensed\,sans-serif\; font-size:20pt">&nbsp\;</span></strong></p>\n\n<p style="text-align:center"><strong><span style="font-family:bahnschrift semicondensed\,sans-serif\; font-size:20pt">No outside alcohol permitted</span></strong></p>\n\n<p style="text-align:center"><strong><span style="font-family:bahnschrift semicondensed\,sans-serif\; font-size:20pt">&nbsp\;</span></strong></p>\n\n<p style="text-align:center"><strong><span style="font-family:bahnschrift semicondensed\,sans-serif\; font-size:14pt">We&rsquo\;ll see you on &ldquo\;the lawn&rdquo\;</span></strong></p>\n\n<p><span style="font-family:bahnschrift semicondensed\,sans-serif\; font-size:12pt">&nbsp\;</span></p>\n\n<p><span style="font-family:bahnschrift semicondensed\,sans-serif\; font-size:12pt">&nbsp\;</span></p>\n\n<p><span style="font-family:bahnschrift semicondensed\,sans-serif\; font-size:12pt">&nbsp\;</span></p>\n\n<p><span style="font-family:bahnschrift semicondensed\,sans-serif\; font-size:12pt">&nbsp\;</span></p>\n\n<p><span style="font-family:bahnschrift semicondensed\,sans-serif\; font-size:12pt">&nbsp\;</span></p>\n\n<p><span style="font-family:bahnschrift semicondensed\,sans-serif\; font-size:12pt">&nbsp\;</span></p>\n\n<p><span style="font-family:garamond\,serif\; font-size:12pt">&nbsp\;</span></p>\n\n<p><span style="font-family:garamond\,serif\; font-size:12pt">&nbsp\;</span></p>\n
LOCATION:Seven Artisans Winery 4341 Abernathy Road Fairfield\, CA 94534 Call Bob: (707) 771-0911 sevenartisanswinery@gmail.com
UID:e.1602.6695
SEQUENCE:3
DTSTAMP:20260424T211218Z
URL:https://business.fairfieldsuisunchamber.com/events/details/black-rock-project-play-seven-artisans-winery-6695
END:VEVENT

END:VCALENDAR
