BEGIN:VCALENDAR
VERSION:2.0
PRODID:-//ChamberMaster//Event Calendar 2.0//EN
METHOD:PUBLISH
X-PUBLISHED-TTL:P3D
REFRESH-INTERVAL:P3D
CALSCALE:GREGORIAN
BEGIN:VEVENT
DTSTART:20171118T020000Z
DTEND:20171118T060000Z
X-MICROSOFT-CDO-ALLDAYEVENT:FALSE
SUMMARY:Black & White Ball Dinner & Auction
DESCRIPTION:The Black & White Ball Dinner & Auction will be held at Rancho Solano Clubhouse.  This formal evening will begin with a silent auction while guests sip champagne\; compliments of Boisset Collection Wine Living at Home and Gillespie's Abbey Carpet served in a Black & White Ball signature flute sponsored by Credit Bureau Associates. Guests will enjoy a wonderful dinner and live auction and will end the night with dancing\; a night to be remembered by all.
X-ALT-DESC;FMTTYPE=text/html:<br />\n<br />\n<span style="background-color: rgb(255\, 255\, 255)\;"><font color="#333333" face="arial" size="1">The Black &amp\; White Ball Dinner &amp\; Auction&nbsp\;will be held at Rancho Solano Clubhouse.&nbsp\; This formal evening will begin with a silent auction while guests sip champagne\; compliments of Boisset&nbsp\;Collection Wine Living at Home and Gillespie&#39\;s&nbsp\;Abbey&nbsp\;Carpet served in a Black &amp\; White Ball signature flute sponsored by Credit Bureau Associates. Guests will enjoy a wonderful dinner and live auction and will end the night with dancing\; a night to be remembered by all.</font></span>
LOCATION:Clubhouse at Rancho Solano 3250 Rancho Solano Pkwy Fairfield\, CA 94534
UID:e.1602.3599
SEQUENCE:3
DTSTAMP:20260425T164941Z
URL:https://business.fairfieldsuisunchamber.com/events/details/black-white-ball-dinner-auction-11-18-2017-3599
END:VEVENT

END:VCALENDAR
