BEGIN:VCALENDAR
VERSION:2.0
PRODID:-//ChamberMaster//Event Calendar 2.0//EN
METHOD:PUBLISH
X-PUBLISHED-TTL:P3D
REFRESH-INTERVAL:P3D
CALSCALE:GREGORIAN
BEGIN:VEVENT
DTSTART:20181117T020000Z
DTEND:20181117T070000Z
X-MICROSOFT-CDO-ALLDAYEVENT:FALSE
SUMMARY:Black & White Ball Dinner & Auction
DESCRIPTION:The Black & White Ball Dinner & Auction will be held at Rancho Solano Clubhouse. \n\n\n\nThis formal evening will begin with a silent auction while guests sip champagne\; compliments of Boisset Collection Wine Living at Home and Gillespie's Abbey Carpet served in a Black & White Ball signature flute sponsored by Pacific Credit Services.\n\n\n\nGuests will enjoy a wonderful dinner and live auction and will end the night with dancing\; a night to be remembered by all.
X-ALT-DESC;FMTTYPE=text/html:<p><br />\n<span style="font-size:14px\;"><span style="background-color: rgb(255\, 255\, 255)\;"><font color="#333333" face="arial">The Black &amp\; White Ball Dinner &amp\; Auction&nbsp\;will be held at Rancho Solano Clubhouse.&nbsp\;<br />\n<br />\nThis formal evening will begin with a silent auction while guests sip champagne\; compliments of Boisset&nbsp\;Collection Wine Living at Home and Gillespie&#39\;s&nbsp\;Abbey&nbsp\;Carpet served in a Black &amp\; White Ball signature flute sponsored by Pacific Credit Services.<br />\n<br />\nGuests will enjoy a wonderful dinner and live auction and will end the night with dancing\; a night to be remembered by all.</font></span></span></p>\n
LOCATION:Clubhouse at Rancho Solano 3250 Rancho Solano Pkwy Fairfield\, CA 94534
UID:e.1602.6683
SEQUENCE:3
DTSTAMP:20260424T211001Z
URL:https://business.fairfieldsuisunchamber.com/events/details/black-white-ball-dinner-auction-6683
END:VEVENT

END:VCALENDAR
