BEGIN:VCALENDAR
VERSION:2.0
PRODID:-//ChamberMaster//Event Calendar 2.0//EN
METHOD:PUBLISH
X-PUBLISHED-TTL:P3D
REFRESH-INTERVAL:P3D
CALSCALE:GREGORIAN
BEGIN:VEVENT
DTSTART:20180927T230000Z
DTEND:20180928T000000Z
X-MICROSOFT-CDO-ALLDAYEVENT:FALSE
SUMMARY:CalChamber Statewide Ballot Issues Forum
DESCRIPTION:CalChamber will present overview of each statewide candidate race and initiative on the November 2018 ballot
X-ALT-DESC;FMTTYPE=text/html:<span style="font-family: &quot\;Trebuchet MS&quot\;\, Arial\, Helvetica\, Geneva\, Swiss\, SunSans-Regular\; font-size: 16px\;">CalChamber will present overview of each statewide candidate race and initiative on the November 2018 ballot</span>
LOCATION:City of Fairfield Council Chambers 1000 Webster St Fairfield CA
UID:e.1602.6623
SEQUENCE:3
DTSTAMP:20260425T001936Z
URL:https://business.fairfieldsuisunchamber.com/events/details/calchamber-statewide-ballot-issues-forum-6623
END:VEVENT

END:VCALENDAR
