BEGIN:VCALENDAR
VERSION:2.0
PRODID:-//ChamberMaster//Event Calendar 2.0//EN
METHOD:PUBLISH
X-PUBLISHED-TTL:P3D
REFRESH-INTERVAL:P3D
CALSCALE:GREGORIAN
BEGIN:VEVENT
DTSTART:20181128T193000Z
DTEND:20181128T203000Z
X-MICROSOFT-CDO-ALLDAYEVENT:FALSE
SUMMARY:Caliber Collision Ribbon Cutting
DESCRIPTION:Join the Fairfield-Suisun Chamber in welcoming one of our newest members to the community with an official ribbon cutting ceremony!
X-ALT-DESC;FMTTYPE=text/html:<h2 style="text-align: center\;"><big>Join the Fairfield-Suisun Chamber in welcoming one of our newest members to the community with an official ribbon cutting ceremony!</big></h2>\n
LOCATION:Caliber Collision Center 2353 Auto Mall Pkwy Fairfield\, CA 94533
UID:e.1602.6715
SEQUENCE:3
DTSTAMP:20260424T210908Z
URL:https://business.fairfieldsuisunchamber.com/events/details/caliber-collision-ribbon-cutting-6715
END:VEVENT

END:VCALENDAR
