BEGIN:VCALENDAR
VERSION:2.0
PRODID:-//ChamberMaster//Event Calendar 2.0//EN
METHOD:PUBLISH
X-PUBLISHED-TTL:P3D
REFRESH-INTERVAL:P3D
CALSCALE:GREGORIAN
BEGIN:VEVENT
DTSTART:20190408T230000Z
DTEND:20190409T020000Z
X-MICROSOFT-CDO-ALLDAYEVENT:FALSE
SUMMARY:CANCELED - Teachers Grant Celebration - Kim Liew Real Estate Group
DESCRIPTION:This event has been canceled
X-ALT-DESC;FMTTYPE=text/html:This event has been canceled\n<div font-size:="" helvetica="" letter-spacing:="" neue="" style="margin: 0px\; padding: 0px\; color: rgb(57\, 54\, 79)\; font-family: ">\n<p style="margin: 0px\; padding: 0px\; color: rgb(111\, 114\, 135)\;"><br />\n&nbsp\;</p>\n</div>\n
LOCATION:
UID:e.1602.7047
SEQUENCE:3
DTSTAMP:20260424T130628Z
URL:https://business.fairfieldsuisunchamber.com/events/details/canceled-teachers-grant-celebration-kim-liew-real-estate-group-7047
END:VEVENT

END:VCALENDAR
