BEGIN:VCALENDAR
VERSION:2.0
PRODID:-//ChamberMaster//Event Calendar 2.0//EN
METHOD:PUBLISH
X-PUBLISHED-TTL:P3D
REFRESH-INTERVAL:P3D
CALSCALE:GREGORIAN
BEGIN:VEVENT
DTSTART:20200820T000000Z
DTEND:20200820T013000Z
X-MICROSOFT-CDO-ALLDAYEVENT:FALSE
SUMMARY:Cancelled - Is Your Business Ready To Do Business With Utility Companies?
DESCRIPTION:Join SHCC to learn how to do business with utility companies.\n\n\n\nSHCC will be hosting a panel that will include California Public Utilities Commission\, PG&E\, Comcast\, and San Jose Water.\n\n\n\nEvent will be online on 8/19 at 5 pm.\n\n\n\nTo register visit:\n\nhttps://bit.ly/shcc-cpuc
X-ALT-DESC;FMTTYPE=text/html:Join SHCC to learn how to do business with utility companies.<br />\n<br />\nSHCC will be hosting a panel that will include California Public Utilities Commission\, PG&amp\;E\, Comcast\, and San Jose Water.<br />\n<br />\n<strong>Event will be online on 8/19 at 5 pm.</strong><br />\n<br />\n<strong>To register visit:</strong><br />\n<a href="https://bit.ly/shcc-cpuc">https://bit.ly/shcc-cpuc</a>
LOCATION:Online
UID:e.1602.7481
SEQUENCE:3
DTSTAMP:20260423T115132Z
URL:https://business.fairfieldsuisunchamber.com/events/details/cancelled-is-your-business-ready-to-do-business-with-utility-companies-7481
END:VEVENT

END:VCALENDAR
