BEGIN:VCALENDAR
VERSION:2.0
PRODID:-//ChamberMaster//Event Calendar 2.0//EN
METHOD:PUBLISH
X-PUBLISHED-TTL:P3D
REFRESH-INTERVAL:P3D
CALSCALE:GREGORIAN
BEGIN:VEVENT
DTSTART:20180222T230000Z
DTEND:20180223T003000Z
X-MICROSOFT-CDO-ALLDAYEVENT:FALSE
SUMMARY:Cannabis Information Forum
DESCRIPTION:Join the Solano Chambers of Commerce to learn more about Cannabis! There will be presentations from state and federal policy experts\, law enforcement\, and business followed by a Q&A session. Free to the public!
X-ALT-DESC;FMTTYPE=text/html:<span style="color: rgb(75\, 79\, 86)\; font-family: Helvetica\, Arial\, sans-serif\; font-size: 14px\;">Join the Solano Chambers of Commerce to learn more about Cannabis! There will be presentations from state and federal policy experts\, law enforcement\, and business followed by a Q&amp\;A session. Free to the public!</span>&nbsp\;
LOCATION:Vacaville Opera House 560 Main St.\, Ste. C Vacaville\, CA 95688
UID:e.1602.4266
SEQUENCE:3
DTSTAMP:20260425T111321Z
URL:https://business.fairfieldsuisunchamber.com/events/details/cannabis-information-forum-4266
END:VEVENT

END:VCALENDAR
