BEGIN:VCALENDAR
VERSION:2.0
PRODID:-//ChamberMaster//Event Calendar 2.0//EN
METHOD:PUBLISH
X-PUBLISHED-TTL:P3D
REFRESH-INTERVAL:P3D
CALSCALE:GREGORIAN
BEGIN:VEVENT
DTSTART:20250920T153000Z
DTEND:20250920T180000Z
X-MICROSOFT-CDO-ALLDAYEVENT:FALSE
SUMMARY:Cars & Coffee at Ford Fairfield
DESCRIPTION:Ford Fairfield Cars & Coffee Car Show\n\nFairfield's own Rodriguez High School Cheer Squad will be rallying you in upon arrival! Such a great photo & video opportunity to share with your friends & family! Power88.FM will be broadcasting LIVE! And\, Sip & Scoop California will be here with their coffee and specialty beverage truck along with Yulie's Crepes and Three Angels Food Truck!\n\nCan't wait to see you soon! All classics welcome...
X-ALT-DESC;FMTTYPE=text/html:<div>Ford Fairfield Cars &amp\; Coffee Car Show<br />\nFairfield&#39\;s own&nbsp\;<span style="color:rgb(200\, 38\, 19) !important"><strong>Rodriguez High School Cheer Squad</strong></span>&nbsp\;will be rallying you in upon arrival! Such a great photo &amp\; video opportunity to share with your friends &amp\; family!&nbsp\;<span style="color:rgb(200\, 38\, 19) !important"><strong>Power88.FM</strong></span>&nbsp\;will be broadcasting LIVE! And\,&nbsp\;<span style="color:rgb(200\, 38\, 19) !important"><strong>Sip &amp\; Scoop California</strong></span><strong>&nbsp\;</strong>will be here with their coffee and specialty beverage truck along with&nbsp\;<span style="color:rgb(200\, 38\, 19) !important"><strong>Yulie&#39\;s Crepes</strong></span>&nbsp\;and&nbsp\;<span style="color:rgb(200\, 38\, 19) !important"><strong>Three Angels Food Truck</strong></span>!</div>\n\n<div>Can&#39\;t wait to see you soon! All classics welcome...</div>\n
LOCATION:Ford Fairfield 3050 Auto Mall Court Fairfield\, CA 94534
UID:e.1602.9972
SEQUENCE:3
DTSTAMP:20260420T174420Z
URL:https://business.fairfieldsuisunchamber.com/events/details/cars-coffee-at-ford-fairfield-9972
END:VEVENT

END:VCALENDAR
