BEGIN:VCALENDAR
VERSION:2.0
PRODID:-//ChamberMaster//Event Calendar 2.0//EN
METHOD:PUBLISH
X-PUBLISHED-TTL:P3D
REFRESH-INTERVAL:P3D
CALSCALE:GREGORIAN
BEGIN:VEVENT
DTSTART:20191023T160000Z
DTEND:20191023T220000Z
X-MICROSOFT-CDO-ALLDAYEVENT:FALSE
SUMMARY:Central Valley Innovation & Entrepreneurship Forum
DESCRIPTION:Central Valley Innovation & Entrepreneurship Forum | October 23 Clovis\, CA Do you want to win $10\,000? Are you a startup looking to build your professional network and potentially gain investment? Pitching at the 2019 Central Valley Innovation and Entrepreneurship Forum can make it happen! At the Forum\, you will have opportunities to network with investors\, venture capitalists\, industry leaders\, entrepreneurs\, not to mention the chance to compete for $10\,000! You can actively participate in the event in two unique ways. First by being part of the pitch showcase competition and second by exhibiting at the stock exchange. A select group of ventures will compete for the Judges Choice Award by pitching to a panel of judges. A group of promising startup ventures will have the chance to vie for the attendees' Bulldog Investment Dollars and will be recognized as the Audience Choice. The deadline for applications is September 18. Apply to compete for the $10\,000 grand prize here! http://cvieforum.com/showcase/
X-ALT-DESC;FMTTYPE=text/html:Central Valley Innovation &amp\; Entrepreneurship Forum | October 23 Clovis\, CA Do you want to win $10\,000? Are you a startup looking to build your professional network and potentially gain investment? Pitching at the 2019 Central Valley Innovation and Entrepreneurship Forum can make it happen! At the Forum\, you will have opportunities to network with investors\, venture capitalists\, industry leaders\, entrepreneurs\, not to mention the chance to compete for $10\,000! You can actively participate in the event in two unique ways. First by being part of the pitch showcase competition and second by exhibiting at the stock exchange. A select group of ventures will compete for the Judges Choice Award by pitching to a panel of judges. A group of promising startup ventures will have the chance to vie for the attendees&rsquo\; Bulldog Investment Dollars and will be recognized as the Audience Choice. The deadline for applications is September 18. Apply to compete for the $10\,000 grand prize here! http://cvieforum.com/showcase/
LOCATION:Clovis\, CA
UID:e.1602.7309
SEQUENCE:3
DTSTAMP:20260424T040514Z
URL:https://business.fairfieldsuisunchamber.com/events/details/central-valley-innovation-entrepreneurship-forum-7309
END:VEVENT

END:VCALENDAR
