BEGIN:VCALENDAR
VERSION:2.0
PRODID:-//ChamberMaster//Event Calendar 2.0//EN
METHOD:PUBLISH
X-PUBLISHED-TTL:P3D
REFRESH-INTERVAL:P3D
CALSCALE:GREGORIAN
BEGIN:VEVENT
DTSTART:20171102T183000Z
DTEND:20171102T203000Z
X-MICROSOFT-CDO-ALLDAYEVENT:FALSE
SUMMARY:CEO Space Northern California Lucheon
DESCRIPTION:
X-ALT-DESC;FMTTYPE=text/html:
LOCATION:
UID:e.1602.3812
SEQUENCE:3
DTSTAMP:20260425T165050Z
URL:https://business.fairfieldsuisunchamber.com/events/details/ceo-space-northern-california-lucheon-3812
END:VEVENT

END:VCALENDAR
