BEGIN:VCALENDAR
VERSION:2.0
PRODID:-//ChamberMaster//Event Calendar 2.0//EN
METHOD:PUBLISH
X-PUBLISHED-TTL:P3D
REFRESH-INTERVAL:P3D
CALSCALE:GREGORIAN
BEGIN:VEVENT
DTSTART;VALUE=DATE:20191223
DTEND;VALUE=DATE:20200104
TRANSP:TRANSPARENT
X-MICROSOFT-CDO-ALLDAYEVENT:TRUE
SUMMARY:Chamber Closed
DESCRIPTION:Chamber Closed
X-ALT-DESC;FMTTYPE=text/html:Chamber Closed&nbsp\;
LOCATION:1111 Webster Street Fairfield\, CA 94533
UID:e.1602.7367
SEQUENCE:3
DTSTAMP:20260423T233058Z
URL:https://business.fairfieldsuisunchamber.com/events/details/chamber-closed-12-25-2019-7367
END:VEVENT

END:VCALENDAR
