BEGIN:VCALENDAR
VERSION:2.0
PRODID:-//ChamberMaster//Event Calendar 2.0//EN
METHOD:PUBLISH
X-PUBLISHED-TTL:P3D
REFRESH-INTERVAL:P3D
CALSCALE:GREGORIAN
BEGIN:VEVENT
DTSTART:20170712T183000Z
DTEND:20170712T200000Z
X-MICROSOFT-CDO-ALLDAYEVENT:FALSE
SUMMARY:Chamber "Lunch Mob"
DESCRIPTION:The Fairfield-Suisun Chamber of Commerce\n\nPresents\n\n\n\nLUNCH MOB!\n\n\n\n\n\nGreat opportunity to support a local restaurant that is a Chamber Member.\n\nCome Network\, Make New Contacts\, and Bring Your Friends!!\n\n\n\nSee You There
X-ALT-DESC;FMTTYPE=text/html:<div style="text-align: center\;"><br />\n<span style="font-size:20px\;"><span style="font-size:26px\;">The Fairfield-Suisun&nbsp\;Chamber of Commerce<br />\nPresents</span></span><br />\n<br />\n<span style="font-size:26px\;">LUNCH MOB!</span><br />\n<br />\n<br />\n<span style="font-size:18px\;">Great opportunity to support a local restaurant that is a Chamber Member.<br />\nCome Network\, Make New Contacts\, and Bring Your Friends!!</span><br />\n<br />\n<span style="font-size:26px\;">See You There</span></div>\n
LOCATION:Chevy's Fresh Mex 1370 Travis Blvd. Fairfield\, Ca 94533
UID:e.1602.3575
SEQUENCE:3
DTSTAMP:20260425T230942Z
URL:https://business.fairfieldsuisunchamber.com/events/details/chamber-lunch-mob-3575
END:VEVENT

END:VCALENDAR
