BEGIN:VCALENDAR
VERSION:2.0
PRODID:-//ChamberMaster//Event Calendar 2.0//EN
METHOD:PUBLISH
X-PUBLISHED-TTL:P3D
REFRESH-INTERVAL:P3D
CALSCALE:GREGORIAN
BEGIN:VEVENT
DTSTART:20200408T183000Z
DTEND:20200408T200000Z
X-MICROSOFT-CDO-ALLDAYEVENT:FALSE
SUMMARY:Chamber Lunch Mob hosted by La Cabana- POSTPONED
DESCRIPTION:
X-ALT-DESC;FMTTYPE=text/html:
LOCATION:La Cabana 325 Main Street Suisun City\, CA 94585
UID:e.1602.7422
SEQUENCE:3
DTSTAMP:20260423T182418Z
URL:https://business.fairfieldsuisunchamber.com/events/details/chamber-lunch-mob-hosted-by-la-cabana-postponed-7422
END:VEVENT

END:VCALENDAR
