BEGIN:VCALENDAR
VERSION:2.0
PRODID:-//ChamberMaster//Event Calendar 2.0//EN
METHOD:PUBLISH
X-PUBLISHED-TTL:P3D
REFRESH-INTERVAL:P3D
CALSCALE:GREGORIAN
BEGIN:VEVENT
DTSTART:20200311T183000Z
DTEND:20200311T200000Z
X-MICROSOFT-CDO-ALLDAYEVENT:FALSE
SUMMARY:Chamber Lunch Mob hosted by Legends at Paradise Valley
DESCRIPTION:Chamber Lunch Mob hosted by Legends at Paradise Valley
X-ALT-DESC;FMTTYPE=text/html:<div style="text-align: center\;"><br />\n<strong><span style="font-size:22px\;">Chamber Lunch Mob hosted by Legends at Paradise Valley</span></strong></div>\n
LOCATION:Legends at Paradise Valley 3390 Paradise Valley Drive Fairfield\, CA 94533
UID:e.1602.7406
SEQUENCE:3
DTSTAMP:20260423T203844Z
URL:https://business.fairfieldsuisunchamber.com/events/details/chamber-lunch-mob-hosted-by-legends-at-paradise-valley-7406
END:VEVENT

END:VCALENDAR
