BEGIN:VCALENDAR
VERSION:2.0
PRODID:-//ChamberMaster//Event Calendar 2.0//EN
METHOD:PUBLISH
X-PUBLISHED-TTL:P3D
REFRESH-INTERVAL:P3D
CALSCALE:GREGORIAN
BEGIN:VEVENT
DTSTART:20200710T003000Z
DTEND:20200710T020000Z
X-MICROSOFT-CDO-ALLDAYEVENT:FALSE
SUMMARY:Chamber Mixer hosted by Vezer Family Vineyards
DESCRIPTION:Come join us at this months Chamber Mixer hosted by Vezer Family Vineyards
X-ALT-DESC;FMTTYPE=text/html:Come join us at this months Chamber Mixer hosted by Vezer Family Vineyards
LOCATION:Vezer Family Vineyards 2522 Mankas Corner Road Fairfield\, CA 94533
UID:e.1602.7413
SEQUENCE:3
DTSTAMP:20260423T132241Z
URL:https://business.fairfieldsuisunchamber.com/events/details/chamber-mixer-hosted-by-vezer-family-vineyards-7413
END:VEVENT

END:VCALENDAR
