BEGIN:VCALENDAR
VERSION:2.0
PRODID:-//ChamberMaster//Event Calendar 2.0//EN
METHOD:PUBLISH
X-PUBLISHED-TTL:P3D
REFRESH-INTERVAL:P3D
CALSCALE:GREGORIAN
BEGIN:VEVENT
DTSTART:20171208T173000Z
DTEND:20171208T230000Z
X-MICROSOFT-CDO-ALLDAYEVENT:FALSE
SUMMARY:Chamber's Annual Wine Tour
DESCRIPTION:Fairfield-Suisun Chamber of Commerce's\n\n \n\nANNUAL\n\nHOLIDAY\n\nWINE TOUR\n\nDecember 8th\n\n9:30a.m. to 3:00 p.m.\n\n \n\nLunch will be provided\n\n \n\nTour is $30.00\, Limited Seating \n\nPlease R.S.V.P. by December 1st to\n\nMelissa Manry at\n\nMelissa@fairfieldsuisunchamber.com\n\ncall (707) 425-4625
X-ALT-DESC;FMTTYPE=text/html:<div style="text-align: center\;"><span style="color:#4F6228\;"><span style="font-size:14.0pt\;">Fairfield-Suisun Chamber of Commerce&#39\;s</span></span><br />\n&nbsp\;</div>\n\n<h1 style="text-align: center\;"><span style="font-size:26.0pt\;">ANNUAL<br />\nHOLIDAY<br />\nWINE TOUR</span></h1>\n\n<div style="text-align: center\;"><strong><span style="color:#C00000\;"><span style="font-size:16.0pt\;">December 8th</span></span></strong><br />\n<strong><span style="color:#C00000\;"><span style="font-size:16.0pt\;">9:30a.m. to 3:00 p.m.</span></span></strong><br />\n&nbsp\;<br />\n<em><span style="color:#4F6228\;"><span style="font-size:14.0pt\;">Lunch will be provided</span></span></em><br />\n&nbsp\;<br />\n<span style="color:#4F6228\;"><span style="font-size:14.0pt\;">Tour is $30.00\, Limited Seating </span></span><br />\n<span style="color:#4F6228\;"><span style="font-size:14.0pt\;">Please R.S.V.P. by December 1st to<br />\nMelissa Manry at<br />\nMelissa@fairfieldsuisunchamber.com<br />\ncall (707) 425-4625</span></span></div>\n
LOCATION:Join us for a fun-filled day through the beautiful Suisun Valley vineyards on a tour bus to various wineries in our region! Bus leaves promptly at 9:50am Meeting location: Anheuser-Busch\, 3101 Busch Drive
UID:e.1602.3802
SEQUENCE:3
DTSTAMP:20260425T145955Z
URL:https://business.fairfieldsuisunchamber.com/events/details/chamber-s-annual-wine-tour-3802
END:VEVENT

END:VCALENDAR
