BEGIN:VCALENDAR
VERSION:2.0
PRODID:-//ChamberMaster//Event Calendar 2.0//EN
METHOD:PUBLISH
X-PUBLISHED-TTL:P3D
REFRESH-INTERVAL:P3D
CALSCALE:GREGORIAN
BEGIN:VEVENT
DTSTART:20221029T190000Z
DTEND:20221029T220000Z
X-MICROSOFT-CDO-ALLDAYEVENT:FALSE
SUMMARY:Chelu Family Presents: Trunk or Treat Show & Shine
DESCRIPTION:CHELU FAMILY PRESENTS: TRUNK OR TREAT SHOW & SHINE\n\nROLL IN TIME: 10AM   SHOW TIME: 12PM -3PM \n\nFOR INFO CALL PETE DUENAS (707)363-9137\n\nLOCATION: 1 JELLY BELLY LANE\, FAIRFIELD CA
X-ALT-DESC;FMTTYPE=text/html:CHELU FAMILY PRESENTS: TRUNK OR TREAT SHOW &amp\; SHINE<br />\nROLL IN TIME: 10AM&nbsp\; &nbsp\;SHOW TIME: 12PM -3PM&nbsp\;<br />\nFOR INFO CALL PETE DUENAS (707)363-9137<br />\nLOCATION: 1 JELLY BELLY LANE\, FAIRFIELD CA&nbsp\;
LOCATION:1 JELLY BELLY LANE\, FAIRFIELD CA
UID:e.1602.7814
SEQUENCE:3
DTSTAMP:20260421T154026Z
URL:https://business.fairfieldsuisunchamber.com/events/details/chelu-family-presents-trunk-or-treat-show-shine-7814
END:VEVENT

END:VCALENDAR
