BEGIN:VCALENDAR
VERSION:2.0
PRODID:-//ChamberMaster//Event Calendar 2.0//EN
METHOD:PUBLISH
X-PUBLISHED-TTL:P3D
REFRESH-INTERVAL:P3D
CALSCALE:GREGORIAN
BEGIN:VEVENT
DTSTART:20171216T030000Z
DTEND:20171216T060000Z
X-MICROSOFT-CDO-ALLDAYEVENT:FALSE
SUMMARY:Christmas party with The Rhythm Method 4 at Seven Artisans Winery
DESCRIPTION:Join Us the evening of December 15th for our "Annual Christmas Party" and be entertained by the fabulous "Rhythm Method 4"\n\nTickets on Sale Now on our Website or at the Winery   Limited Seating!\n\n$20/pp at Winery or $21/Online (contains $1.00/process fee)\n\nTicket includes: Entertainment\, Assorted Small Bites & one glass of "First Flight" Wine
X-ALT-DESC;FMTTYPE=text/html:Join Us the evening of December 15th for our &quot\;Annual Christmas Party&quot\; and be entertained by the fabulous &quot\;Rhythm Method 4&quot\;<br />\n<strong>Tickets on Sale Now on our Website or at the Winery &ndash\; Limited Seating!</strong><br />\n$20/pp at Winery or $21/Online (contains $1.00/process fee)<br />\nTicket includes: Entertainment\, Assorted Small Bites &amp\; one glass of &ldquo\;First Flight&rdquo\; Wine
LOCATION:Seven Artisans Winery 4341 Abernathy Road Fairfield\, CA 94534
UID:e.1602.3818
SEQUENCE:3
DTSTAMP:20260425T151434Z
URL:https://business.fairfieldsuisunchamber.com/events/details/christmas-party-with-the-rhythm-method-4-at-seven-artisans-winery-3818
END:VEVENT

END:VCALENDAR
