BEGIN:VCALENDAR
VERSION:2.0
PRODID:-//ChamberMaster//Event Calendar 2.0//EN
METHOD:PUBLISH
X-PUBLISHED-TTL:P3D
REFRESH-INTERVAL:P3D
CALSCALE:GREGORIAN
BEGIN:VEVENT
DTSTART:20190614T153000Z
DTEND:20190614T193000Z
X-MICROSOFT-CDO-ALLDAYEVENT:FALSE
SUMMARY:Citizen Science Volunteer Opportunity
DESCRIPTION:Please join SLT staff on Friday\, June 14th\, as we conduct monitoring of the riparian vegetation in our Upper Spring Branch Creek restoration site at Rush Ranch! You will learn how to conduct riparian vegetation monitoring. No experience is necessary\; we will learn as we go! No plant identification experience needed. We will learn to ID native plants together! If we have enough volunteers\, we may continue monitoring and tending our restoration plantings.
X-ALT-DESC;FMTTYPE=text/html:<span style="font-size:16px\;">Please join SLT staff on Friday\, June 14th\, as we conduct monitoring of the riparian vegetation in our Upper Spring Branch Creek restoration site at Rush Ranch! You will learn how to conduct riparian vegetation monitoring. No experience is necessary\; we will learn as we go! No plant identification experience needed. We will learn to ID native plants together! If we have enough volunteers\, we may continue monitoring and tending our restoration plantings.</span>
LOCATION:Rush Ranch 3521 Grizzly Island Rd\, Suisun City\, CA 94585
UID:e.1602.7122
SEQUENCE:3
DTSTAMP:20260424T100724Z
URL:https://business.fairfieldsuisunchamber.com/events/details/citizen-science-volunteer-opportunity-7122
END:VEVENT

END:VCALENDAR
