BEGIN:VCALENDAR
VERSION:2.0
PRODID:-//ChamberMaster//Event Calendar 2.0//EN
METHOD:PUBLISH
X-PUBLISHED-TTL:P3D
REFRESH-INTERVAL:P3D
CALSCALE:GREGORIAN
BEGIN:VEVENT
DTSTART:20170712T230000Z
DTEND:20170713T010000Z
X-MICROSOFT-CDO-ALLDAYEVENT:FALSE
SUMMARY:Construction Connect - Mixer
DESCRIPTION:Calling All Commercial Construction Professionals!\n\n\n\nThe Fairfield-Suisun Chamber of Commerce\n\n& SRBX \n\n Are Excited To Present \n\n \n\n\n CONSTRUCTION CONNECT\n\n\n\nHosted by Kelly Moore Paints\n\n\n\nAn event designed specifically for commercial construction professionals in Solano County. This is an opportunity for you to meet fellow industry counterparts\, network with industry leaders and build  your business connections.
X-ALT-DESC;FMTTYPE=text/html:<div style="line-height: 20.8px\; text-align: center\;"><span style="color:#000000\;"><strong><span style="font-family:times new roman\;"><span style="font-size:20px\;"><span style="font-size:24px\;">&nbsp\;<br />\n<br />\nCalling All Commercial Construction Professionals!</span></span></span></strong><br />\n<br />\n<span style="font-size:24px\;"><span style="font-family:times new roman\;"><span style="font-size:22px\;"><strong>The Fairfield-Suisun Chamber of Commerce<br />\n&amp\; SRBX&#8203\;<br />\n&#8203\;Are Excited To Present&nbsp\;</strong></span></span></span></span><br />\n&nbsp\;</div>\n\n<div style="line-height: 20.8px\; text-align: center\;">\n<p style="color: rgb(102\, 102\, 102)\; font-family: Arial\, Helvetica\, Tahoma\, sans-serif\; line-height: 20px\; margin: 0px\; padding: 0px 0px 15px\; background-color: rgb(255\, 255\, 255)\;"><span style="color:#000000\;"><span style="line-height: 15.6933px\; font-family: Calibri\, sans-serif\;"><span style="font-size:28px\;"><span style="font-family:times new roman\;"><strong>&#8203\;<strong style="font-size: 20px\;">CONSTRUCTION CONNECT</strong></strong></span></span></span><br />\n<br />\n<span style="font-family:times new roman\;"><span style="font-size:28px\;"><strong background-color:="" font-size:="" new="" style="font-family: " text-align:="" times=""><strong style="font-size: 20px\;">Hosted by Kelly Moore Paints</strong></strong></span></span><br style="color: rgb(0\, 0\, 0)\; font-family: Calibri\, sans-serif\;" />\n<br style="color: rgb(0\, 0\, 0)\; font-family: Calibri\, sans-serif\;" />\n<span style="font-family: Calibri\, sans-serif\; font-size: 20px\;">An event designed specifically for commercial construction professionals in Solano County. This is an opportunity for you to meet fellow industry counterparts\, network with industry leaders and build&nbsp\;</span><span style="line-height: 15.6933px\; font-family: Calibri\, sans-serif\;"><span style="font-size:28px\;"><span style="font-family:times new roman\;"><strong><strong style="font-size: 20px\;">&nbsp\;</strong></strong></span></span><span style="font-size: 20px\;">your business connections.&nbsp\;</span></span></span></p>\n</div>\n
LOCATION:Kelly Moore Paints 1240 Oliver Road Fairfield\, CA 94534
UID:e.1602.3375
SEQUENCE:3
DTSTAMP:20260425T231109Z
URL:https://business.fairfieldsuisunchamber.com/events/details/construction-connect-mixer-07-12-2017-3375
END:VEVENT

END:VCALENDAR
