BEGIN:VCALENDAR
VERSION:2.0
PRODID:-//ChamberMaster//Event Calendar 2.0//EN
METHOD:PUBLISH
X-PUBLISHED-TTL:P3D
REFRESH-INTERVAL:P3D
CALSCALE:GREGORIAN
BEGIN:VEVENT
DTSTART:20170726T190000Z
DTEND:20170726T210000Z
X-MICROSOFT-CDO-ALLDAYEVENT:FALSE
SUMMARY:Continuing Education (Biohazard Cleanup)
DESCRIPTION:This course is designed to assist you in understanding the processes that are involved in cleaning homes and buildings that are or may be contaminated with viruses and blood borne pathogens. Particiapates will be provided lunch and this class also gives insurance credits for those who needs it.
X-ALT-DESC;FMTTYPE=text/html:This course is designed to assist you in understanding the processes that are involved in cleaning homes and buildings that are or may be contaminated with viruses and blood borne pathogens. Particiapates will&nbsp\;be provided lunch and&nbsp\;this class also gives insurance credits for those who needs it.
LOCATION:Fairfield & Suisun Chambers of Commerce 1111 Webster Street Fairfield\, CA 94533
UID:e.1602.3565
SEQUENCE:3
DTSTAMP:20260425T231411Z
URL:https://business.fairfieldsuisunchamber.com/events/details/continuing-education-biohazard-cleanup-07-26-2017-3565
END:VEVENT

END:VCALENDAR
