BEGIN:VCALENDAR
VERSION:2.0
PRODID:-//ChamberMaster//Event Calendar 2.0//EN
METHOD:PUBLISH
X-PUBLISHED-TTL:P3D
REFRESH-INTERVAL:P3D
CALSCALE:GREGORIAN
BEGIN:VEVENT
DTSTART:20170620T190000Z
DTEND:20170620T210000Z
X-MICROSOFT-CDO-ALLDAYEVENT:FALSE
SUMMARY:Continuing Education Class (Cleaning & Restoring Smoke-Damaged Contents)
DESCRIPTION:Continuing Education course on Cleaning & Restoring Smoke-Damaged Contents. Participants will be provided lunch and this class also gives insurance credits for those who needs it.
X-ALT-DESC;FMTTYPE=text/html:Continuing Education course on Cleaning &amp\; Restoring Smoke-Damaged Contents.&nbsp\;Participants will&nbsp\;be provided lunch and&nbsp\;this class also gives insurance credits for those who needs it.
LOCATION:Fairfield- Suisun Chamber of Commerce 1111 Webster Street Fairfield Ca 94533
UID:e.1602.3539
SEQUENCE:3
DTSTAMP:20260426T005557Z
URL:https://business.fairfieldsuisunchamber.com/events/details/continuing-education-class-cleaning-restoring-smoke-damaged-contents-3539
END:VEVENT

END:VCALENDAR
