BEGIN:VCALENDAR
VERSION:2.0
PRODID:-//ChamberMaster//Event Calendar 2.0//EN
METHOD:PUBLISH
X-PUBLISHED-TTL:P3D
REFRESH-INTERVAL:P3D
CALSCALE:GREGORIAN
BEGIN:VEVENT
DTSTART:20170607T160000Z
DTEND:20170607T200000Z
X-MICROSOFT-CDO-ALLDAYEVENT:FALSE
SUMMARY:Continuing Education Class (Understanding Mold)
DESCRIPTION:Continuing Education course on Understanding Mold. Participants will be provided continental breakfast and lunch (BBQ Brisket and smoked mac & cheese). This class also gives insurance credits for those who needs it.
X-ALT-DESC;FMTTYPE=text/html:Continuing Education course on Understanding Mold.&nbsp\;Participants will&nbsp\;be provided continental breakfast and lunch (BBQ Brisket and smoked mac &amp\; cheese). This class also gives insurance credits for those who needs it.
LOCATION:5130 Fulton Drive\, Suite I Fairfield\, Ca 94533
UID:e.1602.3524
SEQUENCE:3
DTSTAMP:20260426T004336Z
URL:https://business.fairfieldsuisunchamber.com/events/details/continuing-education-clss-understanding-mold-3524
END:VEVENT

END:VCALENDAR
