BEGIN:VCALENDAR
VERSION:2.0
PRODID:-//ChamberMaster//Event Calendar 2.0//EN
METHOD:PUBLISH
X-PUBLISHED-TTL:P3D
REFRESH-INTERVAL:P3D
CALSCALE:GREGORIAN
BEGIN:VEVENT
DTSTART:20180927T160000Z
DTEND:20180927T190000Z
X-MICROSOFT-CDO-ALLDAYEVENT:FALSE
SUMMARY:CONTRACTING WITH CALIFORNIA STATE GOVERNMENT - FAIRFIELD
DESCRIPTION:California wants to buy your product or services. Are you ready to sell them? The state of California is the fifth largest economy in the world! State agencies purchase everything from office supplies to construction services to goat rentals (seriously!)\, and everything in between. If you sell it\, they probably buy it! You Will Learn How To: -Find\, bid on and win state government contracts -Navigate Cal eProcure -Easily get certified as a Small Business or Disabled Veteran Business Enterprise (SB/DVBE) -Market your business to state agencies -Advertise to prime contractors -Receive free procurement assistance from Norcal PTAC and the DBE Support Services program Agencies Participating: -Department of General Services (DGS) -California Department of Corrections and Rehabilitation -Caltrans -California Highway Patrol (CHP) -Department of Consumer Affairs -And more!
X-ALT-DESC;FMTTYPE=text/html:California wants to buy your product or services. Are you ready to sell them? The state of California is the fifth largest economy in the world! State agencies purchase everything from office supplies to construction services to goat rentals (seriously!)\, and everything in between. If you sell it\, they probably buy it! You Will Learn How To: -Find\, bid on and win state government contracts -Navigate Cal eProcure -Easily get certified as a Small Business or Disabled Veteran Business Enterprise (SB/DVBE) -Market your business to state agencies -Advertise to prime contractors -Receive free procurement assistance from Norcal PTAC and the DBE Support Services program Agencies Participating: -Department of General Services (DGS) -California Department of Corrections and Rehabilitation -Caltrans -California Highway Patrol (CHP) -Department of Consumer Affairs -And more!
LOCATION:1111 Webster Street Fairfield
UID:e.1602.6620
SEQUENCE:3
DTSTAMP:20260425T001004Z
URL:https://business.fairfieldsuisunchamber.com/events/details/contracting-with-california-state-government-fairfield-6620
END:VEVENT

END:VCALENDAR
